﻿BEGIN:VCALENDAR
VERSION:2.0
PRODID:-//Educación Neuquén - ECPv6.15.8//NONSGML v1.0//EN
CALSCALE:GREGORIAN
METHOD:PUBLISH
X-ORIGINAL-URL:https://www.neuquen.edu.ar
X-WR-CALDESC:Eventos para Educación Neuquén
REFRESH-INTERVAL;VALUE=DURATION:PT1H
X-Robots-Tag:noindex
X-PUBLISHED-TTL:PT1H
BEGIN:VTIMEZONE
TZID:America/Argentina/Cordoba
BEGIN:STANDARD
TZOFFSETFROM:-0300
TZOFFSETTO:-0300
TZNAME:-03
DTSTART:20220101T000000
END:STANDARD
END:VTIMEZONE
BEGIN:VEVENT
DTSTART;VALUE=DATE:20230923
DTEND;VALUE=DATE:20230924
DTSTAMP:20260421T060232
CREATED:20230901T121725Z
LAST-MODIFIED:20230901T121725Z
UID:34740-1695427200-1695513599@www.neuquen.edu.ar
SUMMARY:23 de Septiembre | Día las Bibliotecas Populares
DESCRIPTION:La fecha fue establecida en 1990 a través del Decreto N° 1935 en homenaje al día de promulgación de la Ley Nº 419\, la cual fue impulsada por el presidente Domingo Faustino Sarmiento y su ministro de instrucción\, el Dr. Nicolás Avellaneda\, en el año 1870. \nMediante la Ley N.º 419 se creó la Comisión Protectora de Bibliotecas Populares para que fuera la responsable del fomento\, la inspección y la inversión de los fondos destinados a las bibliotecas populares a establecerse bajo su amparo como asociaciones de particulares\, en ciudades\, villas y demás centros de población de la República.
URL:https://www.neuquen.edu.ar/event/23-de-septiembre-dia-las-bibliotecas-populares/
CATEGORIES:Efemérides
ATTACH;FMTTYPE=image/jpeg:https://www.neuquen.edu.ar/wp-content/uploads/2023/09/23_Dia-de-las-bibl-populares_web-100.jpg
END:VEVENT
BEGIN:VEVENT
DTSTART;VALUE=DATE:20230923
DTEND;VALUE=DATE:20230924
DTSTAMP:20260421T060232
CREATED:20230901T121906Z
LAST-MODIFIED:20230901T121906Z
UID:34743-1695427200-1695513599@www.neuquen.edu.ar
SUMMARY:23 de Septiembre | Día Nacional de los Derechos Políticos de la Mujer
DESCRIPTION:En el año 1997 se declara el 23 de septiembre como el día Nacional de los Derechos Políticos de la Mujer en conmemoración de la Ley N° 13.010 promulgada en 1947 por gestiones de María Eva Duarte. Está ley establece que las mujeres tendrán los mismos derechos políticos y regirán para ellas la misma ley electoral que para los hombres. Permitiéndose de esta manera el sufragio femenino.
URL:https://www.neuquen.edu.ar/event/23-de-septiembre-dia-nacional-de-los-derechos-politicos-de-la-mujer/
CATEGORIES:Efemérides
ATTACH;FMTTYPE=image/jpeg:https://www.neuquen.edu.ar/wp-content/uploads/2023/08/23_Dia-nacional-de-los-derechos-de-la-mujer_web.jpg
END:VEVENT
END:VCALENDAR