﻿BEGIN:VCALENDAR
VERSION:2.0
PRODID:-//Educación Neuquén - ECPv6.15.8//NONSGML v1.0//EN
CALSCALE:GREGORIAN
METHOD:PUBLISH
X-ORIGINAL-URL:https://www.neuquen.edu.ar
X-WR-CALDESC:Eventos para Educación Neuquén
REFRESH-INTERVAL;VALUE=DURATION:PT1H
X-Robots-Tag:noindex
X-PUBLISHED-TTL:PT1H
BEGIN:VTIMEZONE
TZID:America/Argentina/Cordoba
BEGIN:STANDARD
TZOFFSETFROM:-0300
TZOFFSETTO:-0300
TZNAME:-03
DTSTART:20220101T000000
END:STANDARD
END:VTIMEZONE
BEGIN:VEVENT
DTSTART;VALUE=DATE:20230917
DTEND;VALUE=DATE:20230918
DTSTAMP:20260421T054608
CREATED:20230901T120558Z
LAST-MODIFIED:20230901T120558Z
UID:34726-1694908800-1694995199@www.neuquen.edu.ar
SUMMARY:17 de Septiembre | Día de las y los Psicopedagogos
DESCRIPTION:Se establece la fecha en conmemoración al fallecimiento de Jean Piaget\, reconocido psicólogo y filósofo suizo cuyo gran aporte al estudio del pensamiento y del lenguaje dio origen a la epistemología genética. \nEn este día\, hacemos llegar nuestro reconocimiento a los equipos que transitan cada día las instituciones educativas\, acompañando a las trayectorias escolares de las y los estudiantes del Neuquén. 
URL:https://www.neuquen.edu.ar/event/17-de-septiembre-dia-de-las-y-los-psicopedagogos/
CATEGORIES:Efemérides
ATTACH;FMTTYPE=image/jpeg:https://www.neuquen.edu.ar/wp-content/uploads/2023/09/13_Dia-de-las-y-los-psicopedagogos-web.jpg
END:VEVENT
BEGIN:VEVENT
DTSTART;VALUE=DATE:20230917
DTEND;VALUE=DATE:20230918
DTSTAMP:20260421T054608
CREATED:20230901T120650Z
LAST-MODIFIED:20230901T120650Z
UID:34730-1694908800-1694995199@www.neuquen.edu.ar
SUMMARY:17 de Septiembre | Día de las y los profesores
DESCRIPTION:Se establece este día en conmemoración al fallecimiento de José Manuel Estrada\, un exponente de la docencia secundaria y universitaria.  \nHacemos llegar nuestro reconocimiento a los equipos que transitan cada día las instituciones educativas\, acompañando a las trayectorias escolares de las y los estudiantes del Neuquén.  
URL:https://www.neuquen.edu.ar/event/17-de-septiembre-dia-de-las-y-los-profesores/
CATEGORIES:Efemérides
ATTACH;FMTTYPE=image/jpeg:https://www.neuquen.edu.ar/wp-content/uploads/2023/09/17_Dia-de-las-y-los-profesores_web.jpg
END:VEVENT
END:VCALENDAR