﻿BEGIN:VCALENDAR
VERSION:2.0
PRODID:-//Educación Neuquén - ECPv6.15.8//NONSGML v1.0//EN
CALSCALE:GREGORIAN
METHOD:PUBLISH
X-ORIGINAL-URL:https://www.neuquen.edu.ar
X-WR-CALDESC:Eventos para Educación Neuquén
REFRESH-INTERVAL;VALUE=DURATION:PT1H
X-Robots-Tag:noindex
X-PUBLISHED-TTL:PT1H
BEGIN:VTIMEZONE
TZID:America/Argentina/Cordoba
BEGIN:STANDARD
TZOFFSETFROM:-0300
TZOFFSETTO:-0300
TZNAME:-03
DTSTART:20220101T000000
END:STANDARD
END:VTIMEZONE
BEGIN:VEVENT
DTSTART;VALUE=DATE:20230915
DTEND;VALUE=DATE:20230916
DTSTAMP:20260421T072333
CREATED:20230901T115351Z
LAST-MODIFIED:20230901T115351Z
UID:34721-1694736000-1694822399@www.neuquen.edu.ar
SUMMARY:15 de Septiembre | Día Internacional de la democracia
DESCRIPTION:Esta fecha se estableció el 8 de noviembre de 2007 por la Asamblea General de las Naciones Unidas con el objetivo promulgar y consolidar el sistema de gobierno democrático\, tanto en los Estados Miembros como también hacia el resto del mundo\, entendiendo a este sistema político como el más desarrollado respecto de los monárquicos\, tiránicos\, o dictatoriales.
URL:https://www.neuquen.edu.ar/event/15-de-septiembre-dia-internacional-de-la-democracia/
CATEGORIES:Efemérides
ATTACH;FMTTYPE=image/jpeg:https://www.neuquen.edu.ar/wp-content/uploads/2023/08/15_Dia-int-de-la-democracia_web.jpg
END:VEVENT
END:VCALENDAR