﻿BEGIN:VCALENDAR
VERSION:2.0
PRODID:-//Educación Neuquén - ECPv6.15.8//NONSGML v1.0//EN
CALSCALE:GREGORIAN
METHOD:PUBLISH
X-WR-CALNAME:Educación Neuquén
X-ORIGINAL-URL:https://www.neuquen.edu.ar
X-WR-CALDESC:Eventos para Educación Neuquén
REFRESH-INTERVAL;VALUE=DURATION:PT1H
X-Robots-Tag:noindex
X-PUBLISHED-TTL:PT1H
BEGIN:VTIMEZONE
TZID:America/Argentina/Cordoba
BEGIN:STANDARD
TZOFFSETFROM:-0300
TZOFFSETTO:-0300
TZNAME:-03
DTSTART:20220101T000000
END:STANDARD
END:VTIMEZONE
BEGIN:VEVENT
DTSTART;VALUE=DATE:20230913
DTEND;VALUE=DATE:20230914
DTSTAMP:20260421T060008
CREATED:20230831T150949Z
LAST-MODIFIED:20230831T150949Z
UID:34703-1694563200-1694649599@www.neuquen.edu.ar
SUMMARY:13 de Septiembre | Día de las y los programadores
DESCRIPTION:Desde el 2009\, se conmemora esta fecha por la iniciativa de un joven ruso que eligió el día 256 del calendario gregoriano\, un número importante para las y los programadores\, porque es el máximo valor numérico que se puede representar con 1 byte.
URL:https://www.neuquen.edu.ar/event/13-de-septiembre-dia-de-las-y-los-programadores/
CATEGORIES:Efemérides
ATTACH;FMTTYPE=image/jpeg:https://www.neuquen.edu.ar/wp-content/uploads/2023/08/13_Dia-De-Las-Y-Los-Programadores_Web.jpg
END:VEVENT
BEGIN:VEVENT
DTSTART;VALUE=DATE:20230913
DTEND;VALUE=DATE:20230914
DTSTAMP:20260421T060008
CREATED:20230901T114741Z
LAST-MODIFIED:20230901T114741Z
UID:34718-1694563200-1694649599@www.neuquen.edu.ar
SUMMARY:13 de Septiembre | Día de las y los Bibliotecarios
DESCRIPTION:La fecha se establece en 1942 por el Congreso de Bibliotecarios reunidos en Santiago del Estero e instituida a nivel nacional en 1954\, mediante la sanción del Decreto N° 17.650/54\, en homenaje a las y los bibliotecarios de todo el país. \nEn este día\, hacemos llegar nuestro reconocimiento a los equipos que transitan cada día las instituciones educativas\, acompañando a las trayectorias escolares de las y los estudiantes del Neuquén. 
URL:https://www.neuquen.edu.ar/event/13-de-septiembre-dia-de-las-y-los-bibliotecarios/
CATEGORIES:Efemérides
ATTACH;FMTTYPE=image/jpeg:https://www.neuquen.edu.ar/wp-content/uploads/2023/09/13_Dia-de-las-y-los-bibliotecarios_web.jpg
END:VEVENT
END:VCALENDAR