﻿BEGIN:VCALENDAR
VERSION:2.0
PRODID:-//Educación Neuquén - ECPv6.15.8//NONSGML v1.0//EN
CALSCALE:GREGORIAN
METHOD:PUBLISH
X-ORIGINAL-URL:https://www.neuquen.edu.ar
X-WR-CALDESC:Eventos para Educación Neuquén
REFRESH-INTERVAL;VALUE=DURATION:PT1H
X-Robots-Tag:noindex
X-PUBLISHED-TTL:PT1H
BEGIN:VTIMEZONE
TZID:America/Argentina/Cordoba
BEGIN:STANDARD
TZOFFSETFROM:-0300
TZOFFSETTO:-0300
TZNAME:-03
DTSTART:20220101T000000
END:STANDARD
END:VTIMEZONE
BEGIN:VEVENT
DTSTART;VALUE=DATE:20230912
DTEND;VALUE=DATE:20230913
DTSTAMP:20260421T054719
CREATED:20230901T114607Z
LAST-MODIFIED:20230901T114607Z
UID:34715-1694476800-1694563199@www.neuquen.edu.ar
SUMMARY:12 de Septiembre | Aniversario de Neuquén Capital
DESCRIPTION:En 1955\, durante el segundo gobierno de Juan Domingo Perón\, el Congreso Nacional sancionó la Ley N°14.408 promulgada por el Poder Ejecutivo Nacional por la cual se creó la Provincia del Neuquén.
URL:https://www.neuquen.edu.ar/event/12-de-septiembre-aniversario-de-neuquen-capital/
CATEGORIES:Efemérides
ATTACH;FMTTYPE=image/jpeg:https://www.neuquen.edu.ar/wp-content/uploads/2023/09/12_Aniversario-Neuquen-cap_web-100.jpg
END:VEVENT
END:VCALENDAR