﻿BEGIN:VCALENDAR
VERSION:2.0
PRODID:-//Educación Neuquén - ECPv6.15.8//NONSGML v1.0//EN
CALSCALE:GREGORIAN
METHOD:PUBLISH
X-ORIGINAL-URL:https://www.neuquen.edu.ar
X-WR-CALDESC:Eventos para Educación Neuquén
REFRESH-INTERVAL;VALUE=DURATION:PT1H
X-Robots-Tag:noindex
X-PUBLISHED-TTL:PT1H
BEGIN:VTIMEZONE
TZID:America/Argentina/Cordoba
BEGIN:STANDARD
TZOFFSETFROM:-0300
TZOFFSETTO:-0300
TZNAME:-03
DTSTART:20220101T000000
END:STANDARD
END:VTIMEZONE
BEGIN:VEVENT
DTSTART;VALUE=DATE:20230905
DTEND;VALUE=DATE:20230906
DTSTAMP:20260421T060242
CREATED:20230831T145447Z
LAST-MODIFIED:20230831T145447Z
UID:34695-1693872000-1693958399@www.neuquen.edu.ar
SUMMARY:05 de Septiembre | Día de la mujer Indígena
DESCRIPTION:Esta fecha fue instituida en 1983 durante el Segundo Encuentro de Organizaciones y Movimientos de América realizado en Tiahuanaco\, Bolivia con el objetivo de dar reconocimiento a todas las mujeres indígenas\, portadoras de la herencia cultural y ancestral de estas comunidades; así como también de aquellas que murieron en la lucha contra la discriminación y los abusos cometidos a este género y etnia durante la historia.
URL:https://www.neuquen.edu.ar/event/05-de-septiembre-dia-de-la-mujer-indigena/
CATEGORIES:Efemérides
ATTACH;FMTTYPE=image/jpeg:https://www.neuquen.edu.ar/wp-content/uploads/2023/08/5_Dia-De-La-Mujer-Indigena_web.jpg
END:VEVENT
END:VCALENDAR