﻿BEGIN:VCALENDAR
VERSION:2.0
PRODID:-//Educación Neuquén - ECPv6.15.8//NONSGML v1.0//EN
CALSCALE:GREGORIAN
METHOD:PUBLISH
X-WR-CALNAME:Educación Neuquén
X-ORIGINAL-URL:https://www.neuquen.edu.ar
X-WR-CALDESC:Eventos para Educación Neuquén
REFRESH-INTERVAL;VALUE=DURATION:PT1H
X-Robots-Tag:noindex
X-PUBLISHED-TTL:PT1H
BEGIN:VTIMEZONE
TZID:America/Argentina/Cordoba
BEGIN:STANDARD
TZOFFSETFROM:-0300
TZOFFSETTO:-0300
TZNAME:-03
DTSTART:20220101T000000
END:STANDARD
END:VTIMEZONE
BEGIN:VEVENT
DTSTART;VALUE=DATE:20230904
DTEND;VALUE=DATE:20230905
DTSTAMP:20260421T055908
CREATED:20230831T145027Z
LAST-MODIFIED:20230831T145249Z
UID:34691-1693785600-1693871999@www.neuquen.edu.ar
SUMMARY:04 de Septiembre | Día de las y los secretarios
DESCRIPTION:En este día\, hacemos llegar nuestro reconocimiento a los equipos que transitan cada día las instituciones educativas\, acompañando a las trayectorias escolares de las y los estudiantes del Neuquén.
URL:https://www.neuquen.edu.ar/event/04-de-septiembre-dia-de-las-y-los-secretarios/
CATEGORIES:Efemérides
ATTACH;FMTTYPE=image/jpeg:https://www.neuquen.edu.ar/wp-content/uploads/2023/08/4_Dia-de-las-y-los-secretarios_web.jpg
END:VEVENT
BEGIN:VEVENT
DTSTART;VALUE=DATE:20230904
DTEND;VALUE=DATE:20230905
DTSTAMP:20260421T055908
CREATED:20230831T145343Z
LAST-MODIFIED:20230831T145343Z
UID:34693-1693785600-1693871999@www.neuquen.edu.ar
SUMMARY:04 de Septiembre | Día de las y los inmigrantes
DESCRIPTION:Esta fecha se establece en 1949\, a través del Decreto N° 21.430\, durante el gobierno del General Juan Domingo Perón en conmemoración y reconocimiento a todas aquellas personas que inmigraron a la Argentina a principio del siglo XIX y en adelante\, ya que la cultura argentina debe gran parte al intercambio cultural que produjo el fenómeno de la inmigración en las distintas épocas de la historia de Argentina.
URL:https://www.neuquen.edu.ar/event/04-de-septiembre-dia-de-las-y-los-inmigrantes/
CATEGORIES:Efemérides
ATTACH;FMTTYPE=image/jpeg:https://www.neuquen.edu.ar/wp-content/uploads/2023/08/4_Dia-de-las-y-los-inmigrantes_web.jpg
END:VEVENT
END:VCALENDAR