﻿BEGIN:VCALENDAR
VERSION:2.0
PRODID:-//Educación Neuquén - ECPv6.15.8//NONSGML v1.0//EN
CALSCALE:GREGORIAN
METHOD:PUBLISH
X-ORIGINAL-URL:https://www.neuquen.edu.ar
X-WR-CALDESC:Eventos para Educación Neuquén
REFRESH-INTERVAL;VALUE=DURATION:PT1H
X-Robots-Tag:noindex
X-PUBLISHED-TTL:PT1H
BEGIN:VTIMEZONE
TZID:America/Argentina/Cordoba
BEGIN:STANDARD
TZOFFSETFROM:-0300
TZOFFSETTO:-0300
TZNAME:-03
DTSTART:20220101T000000
END:STANDARD
END:VTIMEZONE
BEGIN:VEVENT
DTSTART;VALUE=DATE:20230903
DTEND;VALUE=DATE:20230904
DTSTAMP:20260421T072336
CREATED:20230831T144645Z
LAST-MODIFIED:20230831T144745Z
UID:34689-1693699200-1693785599@www.neuquen.edu.ar
SUMMARY:03 de Septiembre | Día Mundial de la higiene
DESCRIPTION:Una fecha celebrada a nivel mundial con el objetivo de recordar la importancia que implica la higiene para la prevención de diferentes tipos de enfermedades así como para tener una mejor calidad de vida para nosotros y nuestras futuras generaciones.
URL:https://www.neuquen.edu.ar/event/03-de-septiembre-dia-mundial-de-la-higiene/
CATEGORIES:Efemérides
ATTACH;FMTTYPE=image/jpeg:https://www.neuquen.edu.ar/wp-content/uploads/2023/08/3-Dia-Mundial-de-la-Higiene_-web.jpg
END:VEVENT
END:VCALENDAR