﻿BEGIN:VCALENDAR
VERSION:2.0
PRODID:-//Educación Neuquén - ECPv6.15.8//NONSGML v1.0//EN
CALSCALE:GREGORIAN
METHOD:PUBLISH
X-WR-CALNAME:Educación Neuquén
X-ORIGINAL-URL:https://www.neuquen.edu.ar
X-WR-CALDESC:Eventos para Educación Neuquén
REFRESH-INTERVAL;VALUE=DURATION:PT1H
X-Robots-Tag:noindex
X-PUBLISHED-TTL:PT1H
BEGIN:VTIMEZONE
TZID:America/Argentina/Cordoba
BEGIN:STANDARD
TZOFFSETFROM:-0300
TZOFFSETTO:-0300
TZNAME:-03
DTSTART:20220101T000000
END:STANDARD
END:VTIMEZONE
BEGIN:VEVENT
DTSTART;VALUE=DATE:20230902
DTEND;VALUE=DATE:20230903
DTSTAMP:20260421T054536
CREATED:20230831T144053Z
LAST-MODIFIED:20230831T144053Z
UID:34687-1693612800-1693699199@www.neuquen.edu.ar
SUMMARY:02 de Septiembre | Día de la poesía neuquina
DESCRIPTION:A través de la Ley Provincial N° 3108\, se conmemora el natalicio de la poeta Irma Cuña\, quien en 1999 se convirtió en la primera mujer patagónica en ser designada miembro de la Academia Argentina de Letras.
URL:https://www.neuquen.edu.ar/event/02-de-septiembre-dia-de-la-poesia-neuquina/
CATEGORIES:Efemérides
ATTACH;FMTTYPE=image/jpeg:https://www.neuquen.edu.ar/wp-content/uploads/2023/08/02_Dia-de-la-Poesia-Neuquina-web.jpg
END:VEVENT
END:VCALENDAR