﻿BEGIN:VCALENDAR
VERSION:2.0
PRODID:-//Educación Neuquén - ECPv6.15.8//NONSGML v1.0//EN
CALSCALE:GREGORIAN
METHOD:PUBLISH
X-WR-CALNAME:Educación Neuquén
X-ORIGINAL-URL:https://www.neuquen.edu.ar
X-WR-CALDESC:Eventos para Educación Neuquén
REFRESH-INTERVAL;VALUE=DURATION:PT1H
X-Robots-Tag:noindex
X-PUBLISHED-TTL:PT1H
BEGIN:VTIMEZONE
TZID:America/Argentina/Cordoba
BEGIN:STANDARD
TZOFFSETFROM:-0300
TZOFFSETTO:-0300
TZNAME:-03
DTSTART:20220101T000000
END:STANDARD
END:VTIMEZONE
BEGIN:VEVENT
DTSTART;VALUE=DATE:20230827
DTEND;VALUE=DATE:20230828
DTSTAMP:20260421T072015
CREATED:20230727T123258Z
LAST-MODIFIED:20230727T123258Z
UID:34245-1693094400-1693180799@www.neuquen.edu.ar
SUMMARY:27 | Día Nacional de la Radio 
DESCRIPTION:  \nSe conmemora un nuevo aniversario de la primera transmisión radial pública en el mundo. \nEn el año 1920 cuatro radioaficionados conocidos como “Los locos de la Azotea” realizaron la primera transmisión radiofónica (integral y completa) de un programa de radio en la Argentina\, siendo la primera en transmitir el discurso de un presidente\, difundir un noticiero y\, además\, lograr formar un equipo de locutores.
URL:https://www.neuquen.edu.ar/event/27-dia-nacional-de-la-radio/
CATEGORIES:Efemérides
ATTACH;FMTTYPE=image/jpeg:https://www.neuquen.edu.ar/wp-content/uploads/2023/07/27_Dia-Nacional-de-la-radio-web.jpg
END:VEVENT
BEGIN:VEVENT
DTSTART;VALUE=DATE:20230827
DTEND;VALUE=DATE:20230828
DTSTAMP:20260421T072015
CREATED:20230727T123620Z
LAST-MODIFIED:20230727T123620Z
UID:34247-1693094400-1693180799@www.neuquen.edu.ar
SUMMARY:29 | Día del Árbol
DESCRIPTION:  \nConmemoración propuesta en el año 1900 por el Dr. Estanislao Zeballos\, que resalta la importancia de este recurso natural.
URL:https://www.neuquen.edu.ar/event/29-dia-del-arbol/
CATEGORIES:Efemérides
ATTACH;FMTTYPE=image/jpeg:https://www.neuquen.edu.ar/wp-content/uploads/2023/07/29_Dia-del-Arbol-web.jpg
END:VEVENT
END:VCALENDAR