﻿BEGIN:VCALENDAR
VERSION:2.0
PRODID:-//Educación Neuquén - ECPv6.15.8//NONSGML v1.0//EN
CALSCALE:GREGORIAN
METHOD:PUBLISH
X-ORIGINAL-URL:https://www.neuquen.edu.ar
X-WR-CALDESC:Eventos para Educación Neuquén
REFRESH-INTERVAL;VALUE=DURATION:PT1H
X-Robots-Tag:noindex
X-PUBLISHED-TTL:PT1H
BEGIN:VTIMEZONE
TZID:America/Argentina/Cordoba
BEGIN:STANDARD
TZOFFSETFROM:-0300
TZOFFSETTO:-0300
TZNAME:-03
DTSTART:20220101T000000
END:STANDARD
END:VTIMEZONE
BEGIN:VEVENT
DTSTART;VALUE=DATE:20230822
DTEND;VALUE=DATE:20230823
DTSTAMP:20260421T072208
CREATED:20230727T122806Z
LAST-MODIFIED:20230727T122806Z
UID:34239-1692662400-1692748799@www.neuquen.edu.ar
SUMMARY:22 | Día Mundial del folclore y Día del folclore Argentino 
DESCRIPTION:  \nEn 1960\, se instituyó esta fecha como el Día Mundial del Folclore dado que el 22 de agosto de 1846. El concepto deriva de «folk» (pueblo\, gente\, raza) y de «lore» (saber\, ciencia)\, y se conjuga como el «saber popular». La fecha coincide\, en Argentina\, con el nacimiento de Juan Bautista Ambrosetti (1865-1917)\, reconocido como el “padre de la ciencia folklórica”.
URL:https://www.neuquen.edu.ar/event/22-dia-mundial-del-folclore-y-dia-del-folclore-argentino/
CATEGORIES:Efemérides
ATTACH;FMTTYPE=image/jpeg:https://www.neuquen.edu.ar/wp-content/uploads/2023/07/22_Dia-mundial-del-folclore-y-dia-del-folclore-argentino-web.jpg
END:VEVENT
END:VCALENDAR