﻿BEGIN:VCALENDAR
VERSION:2.0
PRODID:-//Educación Neuquén - ECPv6.15.8//NONSGML v1.0//EN
CALSCALE:GREGORIAN
METHOD:PUBLISH
X-WR-CALNAME:Educación Neuquén
X-ORIGINAL-URL:https://www.neuquen.edu.ar
X-WR-CALDESC:Eventos para Educación Neuquén
REFRESH-INTERVAL;VALUE=DURATION:PT1H
X-Robots-Tag:noindex
X-PUBLISHED-TTL:PT1H
BEGIN:VTIMEZONE
TZID:America/Argentina/Cordoba
BEGIN:STANDARD
TZOFFSETFROM:-0300
TZOFFSETTO:-0300
TZNAME:-03
DTSTART:20220101T000000
END:STANDARD
END:VTIMEZONE
BEGIN:VEVENT
DTSTART;VALUE=DATE:20230820
DTEND;VALUE=DATE:20230821
DTSTAMP:20260421T072041
CREATED:20230727T122507Z
LAST-MODIFIED:20230727T122507Z
UID:34235-1692489600-1692575999@www.neuquen.edu.ar
SUMMARY:20 | Reforma de la Constitución Nacional
DESCRIPTION:  \nLa reforma de la Constitución de la Nación Argentina de 1994 es una importante modificación realizada al texto constitucional. Modernizó la misma y definió su texto\, sobre cuya legitimidad plena no existía consenso. \nEntre otros cambios\, introdujo los derechos de tercera y cuarta generación\, normas para defensa de la democracia y la constitucionalidad\, las características de los órganos de gobierno\, y nuevos órganos de control. \nLa Convención Constituyente se celebró en las ciudades de Santa Fe (sede tradicional de las convenciones constituyentes) y de Paraná (primera capital de la Confederación).
URL:https://www.neuquen.edu.ar/event/20-reforma-de-la-constitucion-nacional/
CATEGORIES:Efemérides
ATTACH;FMTTYPE=image/jpeg:https://www.neuquen.edu.ar/wp-content/uploads/2023/07/20_Reforma-de-la-constitucion-nacional-web.jpg
END:VEVENT
BEGIN:VEVENT
DTSTART;VALUE=DATE:20230820
DTEND;VALUE=DATE:20230821
DTSTAMP:20260421T072041
CREATED:20230727T122624Z
LAST-MODIFIED:20230727T122624Z
UID:34237-1692489600-1692575999@www.neuquen.edu.ar
SUMMARY:20 | Día de las Infancias
DESCRIPTION:  \nEsta fecha se celebra en Argentina desde 1960\, cada tercer domingo de agosto\, con el objetivo de dar a conocer los derechos a la salud\, la educación y la protección de niñas\, niños y adolescentes (NNyA). \nEn la provincia del Neuquén\, a través de la Resolución N° 1058/18 aprobada por el Cuerpo Colegiado del CPE\, se estableció reemplazar la denominación “Día del Niño” por “Día de las Infancias” con el objetivo de proteger y garantizar la inclusión de las mismas.
URL:https://www.neuquen.edu.ar/event/20-dia-de-las-infancias/
CATEGORIES:Efemérides
ATTACH;FMTTYPE=image/jpeg:https://www.neuquen.edu.ar/wp-content/uploads/2023/07/20_Dia-de-las-Infancias-web.jpg
END:VEVENT
END:VCALENDAR