﻿BEGIN:VCALENDAR
VERSION:2.0
PRODID:-//Educación Neuquén - ECPv6.15.8//NONSGML v1.0//EN
CALSCALE:GREGORIAN
METHOD:PUBLISH
X-ORIGINAL-URL:https://www.neuquen.edu.ar
X-WR-CALDESC:Eventos para Educación Neuquén
REFRESH-INTERVAL;VALUE=DURATION:PT1H
X-Robots-Tag:noindex
X-PUBLISHED-TTL:PT1H
BEGIN:VTIMEZONE
TZID:America/Argentina/Cordoba
BEGIN:STANDARD
TZOFFSETFROM:-0300
TZOFFSETTO:-0300
TZNAME:-03
DTSTART:20220101T000000
END:STANDARD
END:VTIMEZONE
BEGIN:VEVENT
DTSTART;VALUE=DATE:20230812
DTEND;VALUE=DATE:20230813
DTSTAMP:20260421T085222
CREATED:20230727T121924Z
LAST-MODIFIED:20230727T121924Z
UID:34224-1691798400-1691884799@www.neuquen.edu.ar
SUMMARY:12 | Día Internacional de la Juventud
DESCRIPTION:  \nEsta fecha fue designada en 1999 por la Asamblea General de la ONU con el objetivo de situar en primer plano\, y ante la comunidad internacional\, las problemáticas vinculadas a la juventud y\, al mismo tiempo\, celebrar su potencial como socios indispensables de la construcción de la sociedad.
URL:https://www.neuquen.edu.ar/event/12-dia-internacional-de-la-juventud/
CATEGORIES:Efemérides
ATTACH;FMTTYPE=image/jpeg:https://www.neuquen.edu.ar/wp-content/uploads/2023/07/12_Dia-Internacional-de-la-juventud-web.jpg
END:VEVENT
END:VCALENDAR