﻿BEGIN:VCALENDAR
VERSION:2.0
PRODID:-//Educación Neuquén - ECPv6.15.8//NONSGML v1.0//EN
CALSCALE:GREGORIAN
METHOD:PUBLISH
X-WR-CALNAME:Educación Neuquén
X-ORIGINAL-URL:https://www.neuquen.edu.ar
X-WR-CALDESC:Eventos para Educación Neuquén
REFRESH-INTERVAL;VALUE=DURATION:PT1H
X-Robots-Tag:noindex
X-PUBLISHED-TTL:PT1H
BEGIN:VTIMEZONE
TZID:America/Argentina/Cordoba
BEGIN:STANDARD
TZOFFSETFROM:-0300
TZOFFSETTO:-0300
TZNAME:-03
DTSTART:20220101T000000
END:STANDARD
END:VTIMEZONE
BEGIN:VEVENT
DTSTART;VALUE=DATE:20230730
DTEND;VALUE=DATE:20230731
DTSTAMP:20260421T083122
CREATED:20230629T143916Z
LAST-MODIFIED:20230629T143916Z
UID:33966-1690675200-1690761599@www.neuquen.edu.ar
SUMMARY:Día Mundial contra la trata de personas
DESCRIPTION:  \nFue proclamado por la Asamblea General de las Naciones Unidas en la resolución A/RES/68/192. Ante la necesidad de crear mayor conciencia de la situación de las víctimas de la trata de personas y de promover y proteger sus derechos\, la asamblea designó el 30 de julio como el Día Mundial contra la Trata de Personas\, que se celebra todos los años desde 2014.
URL:https://www.neuquen.edu.ar/event/dia-mundial-contra-la-trata-de-personas-2/
CATEGORIES:Efemérides
ATTACH;FMTTYPE=image/jpeg:https://www.neuquen.edu.ar/wp-content/uploads/2023/06/30_Dia-M-de-la-trata_web-100.jpg
END:VEVENT
END:VCALENDAR