﻿BEGIN:VCALENDAR
VERSION:2.0
PRODID:-//Educación Neuquén - ECPv6.15.8//NONSGML v1.0//EN
CALSCALE:GREGORIAN
METHOD:PUBLISH
X-WR-CALNAME:Educación Neuquén
X-ORIGINAL-URL:https://www.neuquen.edu.ar
X-WR-CALDESC:Eventos para Educación Neuquén
REFRESH-INTERVAL;VALUE=DURATION:PT1H
X-Robots-Tag:noindex
X-PUBLISHED-TTL:PT1H
BEGIN:VTIMEZONE
TZID:America/Argentina/Cordoba
BEGIN:STANDARD
TZOFFSETFROM:-0300
TZOFFSETTO:-0300
TZNAME:-03
DTSTART:20220101T000000
END:STANDARD
END:VTIMEZONE
BEGIN:VEVENT
DTSTART;VALUE=DATE:20230729
DTEND;VALUE=DATE:20230730
DTSTAMP:20260421T083122
CREATED:20230629T143516Z
LAST-MODIFIED:20230629T143516Z
UID:33963-1690588800-1690675199@www.neuquen.edu.ar
SUMMARY:Día de la Cultura Nacional 
DESCRIPTION:  \nEn 1982\, un decreto presidencial instituyó esta fecha\, en conmemoración de la figura del escritor\, periodista\, poeta y ensayista\, Ricardo Rojas\, quien falleció un 29 de julio de 1957.
URL:https://www.neuquen.edu.ar/event/dia-de-la-cultura-nacional-2/
CATEGORIES:Efemérides
ATTACH;FMTTYPE=image/jpeg:https://www.neuquen.edu.ar/wp-content/uploads/2023/06/29-Dia-de-la-cultura-arg_web-100.jpg
END:VEVENT
END:VCALENDAR