﻿BEGIN:VCALENDAR
VERSION:2.0
PRODID:-//Educación Neuquén - ECPv6.15.8//NONSGML v1.0//EN
CALSCALE:GREGORIAN
METHOD:PUBLISH
X-WR-CALNAME:Educación Neuquén
X-ORIGINAL-URL:https://www.neuquen.edu.ar
X-WR-CALDESC:Eventos para Educación Neuquén
REFRESH-INTERVAL;VALUE=DURATION:PT1H
X-Robots-Tag:noindex
X-PUBLISHED-TTL:PT1H
BEGIN:VTIMEZONE
TZID:America/Argentina/Cordoba
BEGIN:STANDARD
TZOFFSETFROM:-0300
TZOFFSETTO:-0300
TZNAME:-03
DTSTART:20220101T000000
END:STANDARD
END:VTIMEZONE
BEGIN:VEVENT
DTSTART;VALUE=DATE:20230720
DTEND;VALUE=DATE:20230721
DTSTAMP:20260421T083128
CREATED:20230703T115440Z
LAST-MODIFIED:20230703T115440Z
UID:33989-1689811200-1689897599@www.neuquen.edu.ar
SUMMARY:Día de la amistad
DESCRIPTION:Cada 20 de julio se celebra en Argentina esta fecha que rinde honor a la amistad como vínculo social. Así\, la amistad recibe en esta jornada una apreciación singular\, fomentándola en base a una idea de hermandad\, de compañerismo y respeto\, como una experiencia de gran valor para la integridad de las personas.
URL:https://www.neuquen.edu.ar/event/dia-de-la-amistad-2/
CATEGORIES:Efemérides
ATTACH;FMTTYPE=image/jpeg:https://www.neuquen.edu.ar/wp-content/uploads/2023/06/20_Dia-de-la-amistad-web-100.jpg
END:VEVENT
END:VCALENDAR