﻿BEGIN:VCALENDAR
VERSION:2.0
PRODID:-//Educación Neuquén - ECPv6.15.8//NONSGML v1.0//EN
CALSCALE:GREGORIAN
METHOD:PUBLISH
X-ORIGINAL-URL:https://www.neuquen.edu.ar
X-WR-CALDESC:Eventos para Educación Neuquén
REFRESH-INTERVAL;VALUE=DURATION:PT1H
X-Robots-Tag:noindex
X-PUBLISHED-TTL:PT1H
BEGIN:VTIMEZONE
TZID:America/Argentina/Cordoba
BEGIN:STANDARD
TZOFFSETFROM:-0300
TZOFFSETTO:-0300
TZNAME:-03
DTSTART:20220101T000000
END:STANDARD
END:VTIMEZONE
BEGIN:VEVENT
DTSTART;VALUE=DATE:20230718
DTEND;VALUE=DATE:20230719
DTSTAMP:20260421T083442
CREATED:20230629T134847Z
LAST-MODIFIED:20230629T134847Z
UID:33954-1689638400-1689724799@www.neuquen.edu.ar
SUMMARY:Día de la conmemoración y recuerdo de las víctimas de la AMIA 
DESCRIPTION:  \nLa fecha fue incorporada a los calendarios escolares de las distintas jurisdicciones educativas por el Consejo Federal de Educación en la Resolución 291 con el objetivo de reflexionar sobre las implicancias de lo sucedido el 17 de marzo de 1992 y\, a través del mismo\, sobre la importancia del respeto por las diferencias\, la resolución pacífica de conflictos y el repudio sin atenuantes por el terrorismo y toda otra forma de violencia política. 
URL:https://www.neuquen.edu.ar/event/dia-de-la-conmemoracion-y-recuerdo-de-las-victimas-de-la-amia-2/
CATEGORIES:Efemérides
ATTACH;FMTTYPE=image/jpeg:https://www.neuquen.edu.ar/wp-content/uploads/2023/06/18_AMIA-web-100.jpg
END:VEVENT
BEGIN:VEVENT
DTSTART;VALUE=DATE:20230718
DTEND;VALUE=DATE:20230719
DTSTAMP:20260421T083442
CREATED:20230629T135154Z
LAST-MODIFIED:20230703T123203Z
UID:33957-1689638400-1689724799@www.neuquen.edu.ar
SUMMARY:Día de la acción solidaria en homenaje a la memoria de Nelson Mandela 
DESCRIPTION:  \nEn noviembre de 2009\, la Asamblea General de las Naciones Unidas proclamó el 18 de julio como el Día Internacional de Nelson Mandela\, en reconocimiento a la contribución aportada por el ex Presidente de Sudáfrica a la cultura de la paz y la libertad en el mundo.
URL:https://www.neuquen.edu.ar/event/dia-de-la-accion-solidaria-en-homenaje-a-la-memoria-de-nelson-mandela/
CATEGORIES:Efemérides
ATTACH;FMTTYPE=image/jpeg:https://www.neuquen.edu.ar/wp-content/uploads/2023/06/18_Dia-de-la-accion-solidaria-WEB-100-1.jpg
END:VEVENT
END:VCALENDAR