﻿BEGIN:VCALENDAR
VERSION:2.0
PRODID:-//Educación Neuquén - ECPv6.15.8//NONSGML v1.0//EN
CALSCALE:GREGORIAN
METHOD:PUBLISH
X-WR-CALNAME:Educación Neuquén
X-ORIGINAL-URL:https://www.neuquen.edu.ar
X-WR-CALDESC:Eventos para Educación Neuquén
REFRESH-INTERVAL;VALUE=DURATION:PT1H
X-Robots-Tag:noindex
X-PUBLISHED-TTL:PT1H
BEGIN:VTIMEZONE
TZID:America/Argentina/Cordoba
BEGIN:STANDARD
TZOFFSETFROM:-0300
TZOFFSETTO:-0300
TZNAME:-03
DTSTART:20220101T000000
END:STANDARD
END:VTIMEZONE
BEGIN:VEVENT
DTSTART;VALUE=DATE:20230715
DTEND;VALUE=DATE:20230716
DTSTAMP:20260421T083214
CREATED:20230629T134250Z
LAST-MODIFIED:20230629T134250Z
UID:33951-1689379200-1689465599@www.neuquen.edu.ar
SUMMARY:Día mundial de las habilidades de la juventud
DESCRIPTION:  \nEl 18 de diciembre de 2014\, la Asamblea General de las Naciones Unidas (ONU)\, mediante su resolución A/RES/69/145\, establece esta fecha que busca sensibilizar sobre la importancia de invertir en el desarrollo de las habilidades de las juventudes\, potenciar sus fortalezas y fomentar su participación activa.
URL:https://www.neuquen.edu.ar/event/dia-mundial-de-las-habilidades-de-la-juventud-2/
CATEGORIES:Efemérides
ATTACH;FMTTYPE=image/jpeg:https://www.neuquen.edu.ar/wp-content/uploads/2023/06/15_Dia-M-de-las-h-de-la-juv_WEB-100.jpg
END:VEVENT
END:VCALENDAR