﻿BEGIN:VCALENDAR
VERSION:2.0
PRODID:-//Educación Neuquén - ECPv6.15.8//NONSGML v1.0//EN
CALSCALE:GREGORIAN
METHOD:PUBLISH
X-ORIGINAL-URL:https://www.neuquen.edu.ar
X-WR-CALDESC:Eventos para Educación Neuquén
REFRESH-INTERVAL;VALUE=DURATION:PT1H
X-Robots-Tag:noindex
X-PUBLISHED-TTL:PT1H
BEGIN:VTIMEZONE
TZID:America/Argentina/Cordoba
BEGIN:STANDARD
TZOFFSETFROM:-0300
TZOFFSETTO:-0300
TZNAME:-03
DTSTART:20220101T000000
END:STANDARD
END:VTIMEZONE
BEGIN:VEVENT
DTSTART;VALUE=DATE:20230712
DTEND;VALUE=DATE:20230713
DTSTAMP:20260421T083440
CREATED:20230629T133923Z
LAST-MODIFIED:20230629T133923Z
UID:33948-1689120000-1689206399@www.neuquen.edu.ar
SUMMARY:Día Nacional de la Medicina Social 
DESCRIPTION:  \nA partir de la Ley 25.598 cada año se celebra esta fecha\, en homenaje a todos los médicos y médicas que se desempeñan en ese área y en especial al cardiocirujano Doctor René Gerónimo Favaloro\, en conmemoración de la fecha de su nacimiento.
URL:https://www.neuquen.edu.ar/event/dia-nacional-de-la-medicina-social/
CATEGORIES:Efemérides
ATTACH;FMTTYPE=image/jpeg:https://www.neuquen.edu.ar/wp-content/uploads/2023/06/12_Dia-dela-medicina-web-100.jpg
END:VEVENT
END:VCALENDAR