﻿BEGIN:VCALENDAR
VERSION:2.0
PRODID:-//Educación Neuquén - ECPv6.15.8//NONSGML v1.0//EN
CALSCALE:GREGORIAN
METHOD:PUBLISH
X-ORIGINAL-URL:https://www.neuquen.edu.ar
X-WR-CALDESC:Eventos para Educación Neuquén
REFRESH-INTERVAL;VALUE=DURATION:PT1H
X-Robots-Tag:noindex
X-PUBLISHED-TTL:PT1H
BEGIN:VTIMEZONE
TZID:America/Argentina/Cordoba
BEGIN:STANDARD
TZOFFSETFROM:-0300
TZOFFSETTO:-0300
TZNAME:-03
DTSTART:20220101T000000
END:STANDARD
END:VTIMEZONE
BEGIN:VEVENT
DTSTART;VALUE=DATE:20230711
DTEND;VALUE=DATE:20230712
DTSTAMP:20260421T083439
CREATED:20230629T133738Z
LAST-MODIFIED:20230629T133738Z
UID:33945-1689033600-1689119999@www.neuquen.edu.ar
SUMMARY:Dia mundial de la población
DESCRIPTION:  \nEn 1989\, el Consejo de Administración del Programa de las Naciones Unidas para el Desarrollo estableció el Día Mundial de la Población\, con el objetivo de centrar la atención en la urgencia e importancia de las cuestiones relativas a los problemas demográficos.
URL:https://www.neuquen.edu.ar/event/dia-mundial-de-la-poblacion/
CATEGORIES:Efemérides
ATTACH;FMTTYPE=image/jpeg:https://www.neuquen.edu.ar/wp-content/uploads/2023/06/11_Dia-mundial-de-la-poblacion-web-100.jpg
END:VEVENT
END:VCALENDAR