﻿BEGIN:VCALENDAR
VERSION:2.0
PRODID:-//Educación Neuquén - ECPv6.15.8//NONSGML v1.0//EN
CALSCALE:GREGORIAN
METHOD:PUBLISH
X-ORIGINAL-URL:https://www.neuquen.edu.ar
X-WR-CALDESC:Eventos para Educación Neuquén
REFRESH-INTERVAL;VALUE=DURATION:PT1H
X-Robots-Tag:noindex
X-PUBLISHED-TTL:PT1H
BEGIN:VTIMEZONE
TZID:America/Argentina/Cordoba
BEGIN:STANDARD
TZOFFSETFROM:-0300
TZOFFSETTO:-0300
TZNAME:-03
DTSTART:20220101T000000
END:STANDARD
END:VTIMEZONE
BEGIN:VEVENT
DTSTART;VALUE=DATE:20230709
DTEND;VALUE=DATE:20230710
DTSTAMP:20260421T083451
CREATED:20230629T133410Z
LAST-MODIFIED:20230705T134741Z
UID:33943-1688860800-1688947199@www.neuquen.edu.ar
SUMMARY:Día de la Independencia
DESCRIPTION:Se conmemora aquella jornada en la que un grupo de representantes de las Provincias Unidas confirmó en una declaración su intención de poner fin a siglos de dominio colonial español. La Declaración de la Independencia fue un acto soberano y colectivo. El histórico Congreso de Tucumán de 1816 reunió a diputados que sesionaron y debatieron día a día durante muchos meses para proyectar una nueva nación. Allí se trazaron los primeros lineamientos de lo que luego sería la República Argentina
URL:https://www.neuquen.edu.ar/event/dia-de-la-independencia-2/
CATEGORIES:Efemérides
ATTACH;FMTTYPE=image/jpeg:https://www.neuquen.edu.ar/wp-content/uploads/2023/06/9_Dia-de-la-Independencia_Web.jpg
END:VEVENT
END:VCALENDAR