﻿BEGIN:VCALENDAR
VERSION:2.0
PRODID:-//Educación Neuquén - ECPv6.15.8//NONSGML v1.0//EN
CALSCALE:GREGORIAN
METHOD:PUBLISH
X-ORIGINAL-URL:https://www.neuquen.edu.ar
X-WR-CALDESC:Eventos para Educación Neuquén
REFRESH-INTERVAL;VALUE=DURATION:PT1H
X-Robots-Tag:noindex
X-PUBLISHED-TTL:PT1H
BEGIN:VTIMEZONE
TZID:America/Argentina/Cordoba
BEGIN:STANDARD
TZOFFSETFROM:-0300
TZOFFSETTO:-0300
TZNAME:-03
DTSTART:20220101T000000
END:STANDARD
END:VTIMEZONE
BEGIN:VEVENT
DTSTART;VALUE=DATE:20230626
DTEND;VALUE=DATE:20230627
DTSTAMP:20260421T083426
CREATED:20230601T152958Z
LAST-MODIFIED:20230601T153026Z
UID:33539-1687737600-1687823999@www.neuquen.edu.ar
SUMMARY:Día Internacional de la Lucha contra el Uso Indebido y Tráfico Ilícito de Drogas
DESCRIPTION:  \nEn la resolución N° 42/112 del 7 de diciembre de 1987\, la Asamblea General de la ONU decidió establecer esta fecha para promover las actividades necesarias tendientes a alcanzar el objetivo de una sociedad internacional libre del abuso de drogas. \n 
URL:https://www.neuquen.edu.ar/event/dia-internacional-de-la-lucha-contra-el-uso-indebido-y-trafico-ilicito-de-drogas-2/
CATEGORIES:Efemérides
ATTACH;FMTTYPE=image/jpeg:https://www.neuquen.edu.ar/wp-content/uploads/2023/06/26_Dia-int-de-la-lucha-cont-el-uso_Web.jpg
END:VEVENT
END:VCALENDAR