﻿BEGIN:VCALENDAR
VERSION:2.0
PRODID:-//Educación Neuquén - ECPv6.15.8//NONSGML v1.0//EN
CALSCALE:GREGORIAN
METHOD:PUBLISH
X-ORIGINAL-URL:https://www.neuquen.edu.ar
X-WR-CALDESC:Eventos para Educación Neuquén
REFRESH-INTERVAL;VALUE=DURATION:PT1H
X-Robots-Tag:noindex
X-PUBLISHED-TTL:PT1H
BEGIN:VTIMEZONE
TZID:America/Argentina/Cordoba
BEGIN:STANDARD
TZOFFSETFROM:-0300
TZOFFSETTO:-0300
TZNAME:-03
DTSTART:20220101T000000
END:STANDARD
END:VTIMEZONE
BEGIN:VEVENT
DTSTART;TZID=America/Argentina/Cordoba:20230623T080000
DTEND;TZID=America/Argentina/Cordoba:20230624T233000
DTSTAMP:20260421T100650
CREATED:20230601T152526Z
LAST-MODIFIED:20230601T152526Z
UID:33537-1687507200-1687649400@www.neuquen.edu.ar
SUMMARY:Año Nuevo Mapuche “Wiñoy Xipantv”
DESCRIPTION:  \nSe trata de una de las celebraciones más importantes del pueblo mapuche. Wiñoy Xipantv\, regreso del sol\, marca el comienzo de un nuevo ciclo de vida en el hemisferio sur.
URL:https://www.neuquen.edu.ar/event/ano-nuevo-mapuche-winoy-xipantv/
CATEGORIES:Efemérides
END:VEVENT
END:VCALENDAR