﻿BEGIN:VCALENDAR
VERSION:2.0
PRODID:-//Educación Neuquén - ECPv6.15.8//NONSGML v1.0//EN
CALSCALE:GREGORIAN
METHOD:PUBLISH
X-WR-CALNAME:Educación Neuquén
X-ORIGINAL-URL:https://www.neuquen.edu.ar
X-WR-CALDESC:Eventos para Educación Neuquén
REFRESH-INTERVAL;VALUE=DURATION:PT1H
X-Robots-Tag:noindex
X-PUBLISHED-TTL:PT1H
BEGIN:VTIMEZONE
TZID:America/Argentina/Cordoba
BEGIN:STANDARD
TZOFFSETFROM:-0300
TZOFFSETTO:-0300
TZNAME:-03
DTSTART:20220101T000000
END:STANDARD
END:VTIMEZONE
BEGIN:VEVENT
DTSTART;VALUE=DATE:20230617
DTEND;VALUE=DATE:20230618
DTSTAMP:20260421T100213
CREATED:20230601T151737Z
LAST-MODIFIED:20230601T151737Z
UID:33528-1686960000-1687046399@www.neuquen.edu.ar
SUMMARY:Día Nacional de la Libertad Latinoamericana
DESCRIPTION:  \nEn el año 1999\, la República Argentina estableció este día en conmemoración del fallecimiento del General Martín Miguel de Güemes\, quien fuera defensor de la frontera norte contra la invasión realista\, lo que permitió al General San Martín encarar sus campañas de Chile y Perú.
URL:https://www.neuquen.edu.ar/event/dia-nacional-de-la-libertad-latinoamericana-2/
CATEGORIES:Efemérides
END:VEVENT
END:VCALENDAR