﻿BEGIN:VCALENDAR
VERSION:2.0
PRODID:-//Educación Neuquén - ECPv6.15.8//NONSGML v1.0//EN
CALSCALE:GREGORIAN
METHOD:PUBLISH
X-ORIGINAL-URL:https://www.neuquen.edu.ar
X-WR-CALDESC:Eventos para Educación Neuquén
REFRESH-INTERVAL;VALUE=DURATION:PT1H
X-Robots-Tag:noindex
X-PUBLISHED-TTL:PT1H
BEGIN:VTIMEZONE
TZID:America/Argentina/Cordoba
BEGIN:STANDARD
TZOFFSETFROM:-0300
TZOFFSETTO:-0300
TZNAME:-03
DTSTART:20220101T000000
END:STANDARD
END:VTIMEZONE
BEGIN:VEVENT
DTSTART;VALUE=DATE:20230613
DTEND;VALUE=DATE:20230614
DTSTAMP:20260421T100730
CREATED:20230601T145404Z
LAST-MODIFIED:20230612T120420Z
UID:33520-1686614400-1686700799@www.neuquen.edu.ar
SUMMARY:Día del escritor y la escritora
DESCRIPTION:  \nSe conmemora este día en honor al escritor cordobés Leopoldo Lugones\, nacido un 13 de junio de 1874. Considerado el líder de la vanguardia literaria del modernismo de finales del siglo XIX\, en 1928 fundó y presidió la Sociedad Argentina de Escritores.
URL:https://www.neuquen.edu.ar/event/dia-del-escritor-y-la-escritora-2/
CATEGORIES:Efemérides
ATTACH;FMTTYPE=image/jpeg:https://www.neuquen.edu.ar/wp-content/uploads/2023/06/13_Dia-del-Escritor-web.jpg
END:VEVENT
END:VCALENDAR