﻿BEGIN:VCALENDAR
VERSION:2.0
PRODID:-//Educación Neuquén - ECPv6.15.8//NONSGML v1.0//EN
CALSCALE:GREGORIAN
METHOD:PUBLISH
X-ORIGINAL-URL:https://www.neuquen.edu.ar
X-WR-CALDESC:Eventos para Educación Neuquén
REFRESH-INTERVAL;VALUE=DURATION:PT1H
X-Robots-Tag:noindex
X-PUBLISHED-TTL:PT1H
BEGIN:VTIMEZONE
TZID:America/Argentina/Cordoba
BEGIN:STANDARD
TZOFFSETFROM:-0300
TZOFFSETTO:-0300
TZNAME:-03
DTSTART:20220101T000000
END:STANDARD
END:VTIMEZONE
BEGIN:VEVENT
DTSTART;VALUE=DATE:20230606
DTEND;VALUE=DATE:20230607
DTSTAMP:20260421T100516
CREATED:20230601T143558Z
LAST-MODIFIED:20230601T143614Z
UID:33497-1686009600-1686095999@www.neuquen.edu.ar
SUMMARY:Día de la Ingeniería Argentina
DESCRIPTION:  \nEn esa fecha de 1870 egresó\, del Departamento de Ciencias Exactas de la Universidad de Buenos Aires\, el primer ingeniero civil argentino: Luis Augusto Huergo\, quien dedicó toda su vida a la ingeniería.
URL:https://www.neuquen.edu.ar/event/dia-de-la-ingenieria-argentina-2/
CATEGORIES:Efemérides
ATTACH;FMTTYPE=image/jpeg:https://www.neuquen.edu.ar/wp-content/uploads/2023/06/6_Dia-de-la-Ingenieria-Argentina-web.jpg
END:VEVENT
END:VCALENDAR