﻿BEGIN:VCALENDAR
VERSION:2.0
PRODID:-//Educación Neuquén - ECPv6.15.8//NONSGML v1.0//EN
CALSCALE:GREGORIAN
METHOD:PUBLISH
X-WR-CALNAME:Educación Neuquén
X-ORIGINAL-URL:https://www.neuquen.edu.ar
X-WR-CALDESC:Eventos para Educación Neuquén
REFRESH-INTERVAL;VALUE=DURATION:PT1H
X-Robots-Tag:noindex
X-PUBLISHED-TTL:PT1H
BEGIN:VTIMEZONE
TZID:America/Argentina/Cordoba
BEGIN:STANDARD
TZOFFSETFROM:-0300
TZOFFSETTO:-0300
TZNAME:-03
DTSTART:20220101T000000
END:STANDARD
END:VTIMEZONE
BEGIN:VEVENT
DTSTART;VALUE=DATE:20230522
DTEND;VALUE=DATE:20230523
DTSTAMP:20260421T113259
CREATED:20230502T163750Z
LAST-MODIFIED:20230502T163750Z
UID:32926-1684713600-1684799999@www.neuquen.edu.ar
SUMMARY:Día Internacional de la Biodiversidad
DESCRIPTION:En el año 2000\, la Asamblea General de las Naciones Unidas designó esta fecha con el objeto de informar y concientizar a la población sobre la amplia variedad de seres vivos sobre la Tierra\, sus patrones naturales e importancia\, en coincidencia con el aniversario de la aprobación del Convenio sobre la Diversidad Biológica de 1992.
URL:https://www.neuquen.edu.ar/event/dia-internacional-de-la-biodiversidad/
CATEGORIES:Efemérides
ATTACH;FMTTYPE=image/jpeg:https://www.neuquen.edu.ar/wp-content/uploads/2023/05/22_Dia-Internacional-De-La-Biodiversidad-web.jpg
END:VEVENT
END:VCALENDAR