﻿BEGIN:VCALENDAR
VERSION:2.0
PRODID:-//Educación Neuquén - ECPv6.15.8//NONSGML v1.0//EN
CALSCALE:GREGORIAN
METHOD:PUBLISH
X-ORIGINAL-URL:https://www.neuquen.edu.ar
X-WR-CALDESC:Eventos para Educación Neuquén
REFRESH-INTERVAL;VALUE=DURATION:PT1H
X-Robots-Tag:noindex
X-PUBLISHED-TTL:PT1H
BEGIN:VTIMEZONE
TZID:America/Argentina/Cordoba
BEGIN:STANDARD
TZOFFSETFROM:-0300
TZOFFSETTO:-0300
TZNAME:-03
DTSTART:20220101T000000
END:STANDARD
END:VTIMEZONE
BEGIN:VEVENT
DTSTART;VALUE=DATE:20230519
DTEND;VALUE=DATE:20230520
DTSTAMP:20260421T113431
CREATED:20230502T160057Z
LAST-MODIFIED:20230502T160057Z
UID:32905-1684454400-1684540799@www.neuquen.edu.ar
SUMMARY:Neuquén como capital de la Provincia
DESCRIPTION:Un día como hoy\, pero de 1904\, se establece la ciudad de Neuquén como capital de la provincia. \n«Queda dividido el territorio de Neuquén en doce departamentos\, […]\, debiendo considerarse el pueblo de Chos Malal con su capital provisoria hasta se establezca el asiento de sus autoridades en el pueblo de la Confluencia\, que se erigirá en Capital definitiva\, con la denominación de Neuquén.» \nDecreto del Gobierno Nacional (19 de mayo de 1904).
URL:https://www.neuquen.edu.ar/event/neuquen-como-capital-de-la-provincia/
CATEGORIES:Efemérides
ATTACH;FMTTYPE=image/jpeg:https://www.neuquen.edu.ar/wp-content/uploads/2023/05/18_Neuquen-como-cap-web.jpg
END:VEVENT
END:VCALENDAR