﻿BEGIN:VCALENDAR
VERSION:2.0
PRODID:-//Educación Neuquén - ECPv6.15.8//NONSGML v1.0//EN
CALSCALE:GREGORIAN
METHOD:PUBLISH
X-WR-CALNAME:Educación Neuquén
X-ORIGINAL-URL:https://www.neuquen.edu.ar
X-WR-CALDESC:Eventos para Educación Neuquén
REFRESH-INTERVAL;VALUE=DURATION:PT1H
X-Robots-Tag:noindex
X-PUBLISHED-TTL:PT1H
BEGIN:VTIMEZONE
TZID:America/Argentina/Cordoba
BEGIN:STANDARD
TZOFFSETFROM:-0300
TZOFFSETTO:-0300
TZNAME:-03
DTSTART:20220101T000000
END:STANDARD
END:VTIMEZONE
BEGIN:VEVENT
DTSTART;VALUE=DATE:20230518
DTEND;VALUE=DATE:20230519
DTSTAMP:20260421T113218
CREATED:20230502T142304Z
LAST-MODIFIED:20230502T142304Z
UID:32897-1684368000-1684454399@www.neuquen.edu.ar
SUMMARY:Día de la Escarapela Nacional
DESCRIPTION:Esta fecha fue instituida por el Consejo Nacional de Educación\, en el año 1935\, y su celebración se efectúa el 18 de mayo. La escarapela es un símbolo patrio creado con los mismos colores de la respectiva Bandera Nacional a la que representa. Sirve como insignia distintiva para denotar un sentimiento de unidad patriótica.
URL:https://www.neuquen.edu.ar/event/dia-de-la-escarapela-nacional/
CATEGORIES:Efemérides
ATTACH;FMTTYPE=image/jpeg:https://www.neuquen.edu.ar/wp-content/uploads/2023/05/18_Dia-de-la-escarapela-nacional-post-2.jpg
END:VEVENT
BEGIN:VEVENT
DTSTART;VALUE=DATE:20230518
DTEND;VALUE=DATE:20230519
DTSTAMP:20260421T113218
CREATED:20230502T142437Z
LAST-MODIFIED:20230502T155920Z
UID:32902-1684368000-1684454399@www.neuquen.edu.ar
SUMMARY:Día Internacional de los Museos
DESCRIPTION:Desde el año 1977 se realiza una jornada mundial de reflexión que involucra alrededor de 37 mil museos y más de 158 países y tiene como objetivo concientizar sobre la importancia de estos espacios para el intercambio y el enriquecimiento cultural. \n 
URL:https://www.neuquen.edu.ar/event/dia-internacional-de-los-museos/
CATEGORIES:Efemérides
ATTACH;FMTTYPE=image/jpeg:https://www.neuquen.edu.ar/wp-content/uploads/2023/05/18_Dia-Internacional-de-los-Museos-web.jpg
END:VEVENT
END:VCALENDAR