﻿BEGIN:VCALENDAR
VERSION:2.0
PRODID:-//Educación Neuquén - ECPv6.15.8//NONSGML v1.0//EN
CALSCALE:GREGORIAN
METHOD:PUBLISH
X-WR-CALNAME:Educación Neuquén
X-ORIGINAL-URL:https://www.neuquen.edu.ar
X-WR-CALDESC:Eventos para Educación Neuquén
REFRESH-INTERVAL;VALUE=DURATION:PT1H
X-Robots-Tag:noindex
X-PUBLISHED-TTL:PT1H
BEGIN:VTIMEZONE
TZID:America/Argentina/Cordoba
BEGIN:STANDARD
TZOFFSETFROM:-0300
TZOFFSETTO:-0300
TZNAME:-03
DTSTART:20220101T000000
END:STANDARD
END:VTIMEZONE
BEGIN:VEVENT
DTSTART;VALUE=DATE:20230517
DTEND;VALUE=DATE:20230518
DTSTAMP:20260421T113047
CREATED:20230502T140727Z
LAST-MODIFIED:20230502T150711Z
UID:32893-1684281600-1684367999@www.neuquen.edu.ar
SUMMARY:Día Mundial de las Telecomunicaciones y la sociedad de la información
DESCRIPTION:Esta fecha fue establecida en marzo del 2006 por la Asamblea General de las Naciones Unidas con el objetivo de aumentar la sensibilización sobre las posibilidades que Internet y otras tecnologías de la información y la comunicación (TIC) pueden ofrecer a las sociedades y economías\, así como posibilidades de reducir la brecha digital.
URL:https://www.neuquen.edu.ar/event/dia-mundial-de-las-telecomunicaciones-y-la-sociedad-de-la-informacion/
CATEGORIES:Efemérides
ATTACH;FMTTYPE=image/jpeg:https://www.neuquen.edu.ar/wp-content/uploads/2023/05/17_-Dia-Mundial-de-las-Telecomunicaciones-y-la-sociedad-de-la-Informacion-web.jpg
END:VEVENT
END:VCALENDAR