﻿BEGIN:VCALENDAR
VERSION:2.0
PRODID:-//Educación Neuquén - ECPv6.15.8//NONSGML v1.0//EN
CALSCALE:GREGORIAN
METHOD:PUBLISH
X-ORIGINAL-URL:https://www.neuquen.edu.ar
X-WR-CALDESC:Eventos para Educación Neuquén
REFRESH-INTERVAL;VALUE=DURATION:PT1H
X-Robots-Tag:noindex
X-PUBLISHED-TTL:PT1H
BEGIN:VTIMEZONE
TZID:America/Argentina/Cordoba
BEGIN:STANDARD
TZOFFSETFROM:-0300
TZOFFSETTO:-0300
TZNAME:-03
DTSTART:20220101T000000
END:STANDARD
END:VTIMEZONE
BEGIN:VEVENT
DTSTART;VALUE=DATE:20230513
DTEND;VALUE=DATE:20230514
DTSTAMP:20260421T113534
CREATED:20230502T134758Z
LAST-MODIFIED:20230502T134758Z
UID:32889-1683936000-1684022399@www.neuquen.edu.ar
SUMMARY:Día de los derechos de las niñas y los niños hospitalizados
DESCRIPTION:Esta celebración se definió en la “Carta de los derechos del niño hospitalizado” del Parlamento Europeo en el año 1986. Su objetivo es homenajear a quienes acompañan a las niñas y los niños en situación de enfermedad\, destacando el valor\, el esfuerzo y el trabajo diario en los hospitales\, en clave de derecho a la salud y a la educación de las infancias.
URL:https://www.neuquen.edu.ar/event/dia-de-los-derechos-de-las-ninas-y-los-ninos-hospitalizados/
CATEGORIES:Efemérides
ATTACH;FMTTYPE=image/jpeg:https://www.neuquen.edu.ar/wp-content/uploads/2023/05/13_Dia-de-los-derechos-hospitalizados-special-post-3.jpg
END:VEVENT
END:VCALENDAR