﻿BEGIN:VCALENDAR
VERSION:2.0
PRODID:-//Educación Neuquén - ECPv6.15.8//NONSGML v1.0//EN
CALSCALE:GREGORIAN
METHOD:PUBLISH
X-WR-CALNAME:Educación Neuquén
X-ORIGINAL-URL:https://www.neuquen.edu.ar
X-WR-CALDESC:Eventos para Educación Neuquén
REFRESH-INTERVAL;VALUE=DURATION:PT1H
X-Robots-Tag:noindex
X-PUBLISHED-TTL:PT1H
BEGIN:VTIMEZONE
TZID:America/Argentina/Cordoba
BEGIN:STANDARD
TZOFFSETFROM:-0300
TZOFFSETTO:-0300
TZNAME:-03
DTSTART:20220101T000000
END:STANDARD
END:VTIMEZONE
BEGIN:VEVENT
DTSTART;VALUE=DATE:20230505
DTEND;VALUE=DATE:20230506
DTSTAMP:20260421T113135
CREATED:20230428T180953Z
LAST-MODIFIED:20230502T145138Z
UID:32874-1683244800-1683331199@www.neuquen.edu.ar
SUMMARY:Día Internacional del celíaco
DESCRIPTION:El objetivo de esta fecha es lograr un mayor conocimiento sobre esta enfermedad y concientizar sobre la importancia de realizar un diagnóstico oportuno. Esta enfermedad presenta una intolerancia permanente al gluten\, el cual es la fracción proteica de 4 cereales: trigo\, centeno\, cebada y avena (TACC).
URL:https://www.neuquen.edu.ar/event/dia-internacional-del-celiaco/
CATEGORIES:Efemérides
ATTACH;FMTTYPE=image/jpeg:https://www.neuquen.edu.ar/wp-content/uploads/2023/04/5_Dia-internacional-Del-Celiaco-web.jpg
END:VEVENT
END:VCALENDAR