﻿BEGIN:VCALENDAR
VERSION:2.0
PRODID:-//Educación Neuquén - ECPv6.15.8//NONSGML v1.0//EN
CALSCALE:GREGORIAN
METHOD:PUBLISH
X-ORIGINAL-URL:https://www.neuquen.edu.ar
X-WR-CALDESC:Eventos para Educación Neuquén
REFRESH-INTERVAL;VALUE=DURATION:PT1H
X-Robots-Tag:noindex
X-PUBLISHED-TTL:PT1H
BEGIN:VTIMEZONE
TZID:America/Argentina/Cordoba
BEGIN:STANDARD
TZOFFSETFROM:-0300
TZOFFSETTO:-0300
TZNAME:-03
DTSTART:20220101T000000
END:STANDARD
END:VTIMEZONE
BEGIN:VEVENT
DTSTART;VALUE=DATE:20230503
DTEND;VALUE=DATE:20230504
DTSTAMP:20260421T113536
CREATED:20230428T180845Z
LAST-MODIFIED:20230502T145003Z
UID:32871-1683072000-1683158399@www.neuquen.edu.ar
SUMMARY:Día Mundial de la Libertad de prensa (Unesco)
DESCRIPTION:En el año 1993 la Asamblea General de las Naciones Unidas decretó este día con el objetivo de evaluar el estado de la libertad de prensa a nivel mundial\, defender los ataques a la independencia de la prensa y de las y los periodistas\, así como también rendir homenaje a quienes perdieron su vida en el ejercicio de su profesión.
URL:https://www.neuquen.edu.ar/event/dia-mundial-de-la-libertad-de-prensa-unesco/
CATEGORIES:Efemérides
ATTACH;FMTTYPE=image/jpeg:https://www.neuquen.edu.ar/wp-content/uploads/2023/04/3_Dia-Mundial-De-La-Libertad-De-Prensa-web.jpg
END:VEVENT
END:VCALENDAR