﻿BEGIN:VCALENDAR
VERSION:2.0
PRODID:-//Educación Neuquén - ECPv6.15.8//NONSGML v1.0//EN
CALSCALE:GREGORIAN
METHOD:PUBLISH
X-WR-CALNAME:Educación Neuquén
X-ORIGINAL-URL:https://www.neuquen.edu.ar
X-WR-CALDESC:Eventos para Educación Neuquén
REFRESH-INTERVAL;VALUE=DURATION:PT1H
X-Robots-Tag:noindex
X-PUBLISHED-TTL:PT1H
BEGIN:VTIMEZONE
TZID:America/Argentina/Cordoba
BEGIN:STANDARD
TZOFFSETFROM:-0300
TZOFFSETTO:-0300
TZNAME:-03
DTSTART:20220101T000000
END:STANDARD
END:VTIMEZONE
BEGIN:VEVENT
DTSTART;VALUE=DATE:20230501
DTEND;VALUE=DATE:20230502
DTSTAMP:20260421T113118
CREATED:20230428T180752Z
LAST-MODIFIED:20230428T180752Z
UID:32868-1682899200-1682985599@www.neuquen.edu.ar
SUMMARY:Día de la Constitución Nacional
DESCRIPTION:Declarado por Ley 25.863 (promulgada en el año 2004)\, esta fecha conmemora la sanción de la Constitución Nacional en 1853\, que establece como forma de gobierno la representativa\, republicana y federal\, a través de un poder tripartito: Ejecutivo\, Legislativo y Judicial.
URL:https://www.neuquen.edu.ar/event/dia-de-la-constitucion-nacional/
CATEGORIES:Efemérides
ATTACH;FMTTYPE=image/jpeg:https://www.neuquen.edu.ar/wp-content/uploads/2023/04/01_Constitucion-Nacional-post-3.jpg
END:VEVENT
END:VCALENDAR