﻿BEGIN:VCALENDAR
VERSION:2.0
PRODID:-//Educación Neuquén - ECPv6.15.8//NONSGML v1.0//EN
CALSCALE:GREGORIAN
METHOD:PUBLISH
X-ORIGINAL-URL:https://www.neuquen.edu.ar
X-WR-CALDESC:Eventos para Educación Neuquén
REFRESH-INTERVAL;VALUE=DURATION:PT1H
X-Robots-Tag:noindex
X-PUBLISHED-TTL:PT1H
BEGIN:VTIMEZONE
TZID:America/Argentina/Cordoba
BEGIN:STANDARD
TZOFFSETFROM:-0300
TZOFFSETTO:-0300
TZNAME:-03
DTSTART:20220101T000000
END:STANDARD
END:VTIMEZONE
BEGIN:VEVENT
DTSTART;VALUE=DATE:20230428
DTEND;VALUE=DATE:20230429
DTSTAMP:20260421T130046
CREATED:20230331T170526Z
LAST-MODIFIED:20230331T170526Z
UID:32309-1682640000-1682726399@www.neuquen.edu.ar
SUMMARY:Día Internacional de las niñas en las Tecnologías de la Información y la comunicación (TIC).
DESCRIPTION:El objetivo principal de esta jornada es incentivar a las niñas y mujeres a orientar sus estudios y profesiones al campo creciente de las Tecnologías de la Información y la Comunicación (TIC) para achicar la brecha digital de géneros existente. \n 
URL:https://www.neuquen.edu.ar/event/dia-internacional-de-las-ninas-en-las-tecnologias-de-la-informacion-y-la-comunicacion-tic/
CATEGORIES:Efemérides
ATTACH;FMTTYPE=image/jpeg:https://www.neuquen.edu.ar/wp-content/uploads/2023/03/28_Dia-Internacional-de-las-ninas-en-las-TIC_web.jpg
END:VEVENT
END:VCALENDAR