﻿BEGIN:VCALENDAR
VERSION:2.0
PRODID:-//Educación Neuquén - ECPv6.15.8//NONSGML v1.0//EN
CALSCALE:GREGORIAN
METHOD:PUBLISH
X-WR-CALNAME:Educación Neuquén
X-ORIGINAL-URL:https://www.neuquen.edu.ar
X-WR-CALDESC:Eventos para Educación Neuquén
REFRESH-INTERVAL;VALUE=DURATION:PT1H
X-Robots-Tag:noindex
X-PUBLISHED-TTL:PT1H
BEGIN:VTIMEZONE
TZID:America/Argentina/Cordoba
BEGIN:STANDARD
TZOFFSETFROM:-0300
TZOFFSETTO:-0300
TZNAME:-03
DTSTART:20220101T000000
END:STANDARD
END:VTIMEZONE
BEGIN:VEVENT
DTSTART;VALUE=DATE:20230417
DTEND;VALUE=DATE:20230418
DTSTAMP:20260421T125729
CREATED:20230331T165753Z
LAST-MODIFIED:20230331T165753Z
UID:32294-1681689600-1681775999@www.neuquen.edu.ar
SUMMARY:Día del Profesor Neuquino (Ley 1876 / Decreto N° 5164/1991).
DESCRIPTION:La fecha fue instituida en 1990 y conmemora la creación del primer centro provincial de enseñanza media (CPEM) en la provincia del Neuquén.
URL:https://www.neuquen.edu.ar/event/dia-del-profesor-neuquino-ley-1876-decreto-n-5164-1991/
CATEGORIES:Efemérides
ATTACH;FMTTYPE=image/jpeg:https://www.neuquen.edu.ar/wp-content/uploads/2023/03/17Dia-del-Profesor-Neuquino-Ley-1876-Decreto-N°-5164-1991-web.jpg
END:VEVENT
END:VCALENDAR