﻿BEGIN:VCALENDAR
VERSION:2.0
PRODID:-//Educación Neuquén - ECPv6.15.8//NONSGML v1.0//EN
CALSCALE:GREGORIAN
METHOD:PUBLISH
X-WR-CALNAME:Educación Neuquén
X-ORIGINAL-URL:https://www.neuquen.edu.ar
X-WR-CALDESC:Eventos para Educación Neuquén
REFRESH-INTERVAL;VALUE=DURATION:PT1H
X-Robots-Tag:noindex
X-PUBLISHED-TTL:PT1H
BEGIN:VTIMEZONE
TZID:America/Argentina/Cordoba
BEGIN:STANDARD
TZOFFSETFROM:-0300
TZOFFSETTO:-0300
TZNAME:-03
DTSTART:20220101T000000
END:STANDARD
END:VTIMEZONE
BEGIN:VEVENT
DTSTART;VALUE=DATE:20230324
DTEND;VALUE=DATE:20230325
DTSTAMP:20260421T141859
CREATED:20230215T150822Z
LAST-MODIFIED:20230215T150822Z
UID:31634-1679616000-1679702399@www.neuquen.edu.ar
SUMMARY:Día Nacional de la Memoria por la Verdad y la Justicia
DESCRIPTION:24 de marzo –  Día Nacional de la Memoria por la Verdad y la Justicia: “Jornada Provincial de la Memoria y la Reflexión”. Ley Provincial 2573 (artículo 5): Bandera a media asta. \n  \n 
URL:https://www.neuquen.edu.ar/event/dia-nacional-de-la-memoria-por-la-verdad-y-la-justicia/
CATEGORIES:Efemérides
ATTACH;FMTTYPE=image/jpeg:https://www.neuquen.edu.ar/wp-content/uploads/2023/02/24_Dia-nacional-por-la-memoria-por-la-verdad-y-la-justicia-web.jpg
END:VEVENT
END:VCALENDAR