﻿BEGIN:VCALENDAR
VERSION:2.0
PRODID:-//Educación Neuquén - ECPv6.15.8//NONSGML v1.0//EN
CALSCALE:GREGORIAN
METHOD:PUBLISH
X-ORIGINAL-URL:https://www.neuquen.edu.ar
X-WR-CALDESC:Eventos para Educación Neuquén
REFRESH-INTERVAL;VALUE=DURATION:PT1H
X-Robots-Tag:noindex
X-PUBLISHED-TTL:PT1H
BEGIN:VTIMEZONE
TZID:America/Argentina/Cordoba
BEGIN:STANDARD
TZOFFSETFROM:-0300
TZOFFSETTO:-0300
TZNAME:-03
DTSTART:20220101T000000
END:STANDARD
END:VTIMEZONE
BEGIN:VEVENT
DTSTART;VALUE=DATE:20230321
DTEND;VALUE=DATE:20230322
DTSTAMP:20260421T142155
CREATED:20230215T144824Z
LAST-MODIFIED:20230215T144824Z
UID:31622-1679356800-1679443199@www.neuquen.edu.ar
SUMMARY:Día Internacional para la eliminación de la Discriminación Racial (ONU)
DESCRIPTION:21 de marzo  – Día Internacional para la eliminación de la Discriminación Racial (ONU). Declaración 28 D 03. Cámara de Diputados de la Nación. \n¿Sabías qué el 21 de Marzo se conmemora el Día de la Eliminación de la Discriminación Racial? Este fue proclamado en 1966 por la Organización de las Naciones Unidas (ONU) como llamado a la reflexión y sensibilización sobre las diversas manifestaciones racistas sucedidas a lo largo de la historia y aún existentes alrededor del mundo. \nSe optó por esta fecha en conmemoración de la Masacre de Sharpeville\, cuando en marzo de 1960\, la policía abrió fuego contra una manifestación pacífica que protestaba contra el apartheid en Sudáfrica. \n 
URL:https://www.neuquen.edu.ar/event/dia-internacional-para-la-eliminacion-de-la-discriminacion-racial-onu/
CATEGORIES:Efemérides
ATTACH;FMTTYPE=image/jpeg:https://www.neuquen.edu.ar/wp-content/uploads/2023/02/21_Dia-Internacional-para-la-eliminacion-de-la-discriminacion-racial-ONU-web.jpg
END:VEVENT
BEGIN:VEVENT
DTSTART;VALUE=DATE:20230321
DTEND;VALUE=DATE:20230322
DTSTAMP:20260421T142155
CREATED:20230215T145038Z
LAST-MODIFIED:20230215T145038Z
UID:31625-1679356800-1679443199@www.neuquen.edu.ar
SUMMARY:Día Mundial de la Poesía
DESCRIPTION:21 de marzo –  Día Mundial de la Poesía (UNESCO – 1999) \n  \n¿Sabías qué el 21 de Marzo se celebra el Día Mundial de la Poesía? En 1999\, la UNESCO adoptó este día durante su 30° Conferencia General en París. La fecha tiene como objetivo apoyar la diversidad lingüística a través de la expresión poética y fomentar la visibilización de aquellas lenguas que se encuentran en peligro. \nEs una ocasión para honrar a los poetas\, revivir tradiciones orales de recitales de poesía\, promover la lectura\, la escritura y la enseñanza de la poesía\, fomentar la convergencia entre la poesía y otras artes como el teatro\, la danza\, la música y la pintura\, y aumentar la visibilidad de poesía en los medios. A medida que la poesía continúa uniendo personas en todos los continentes\, todos están invitados a unirse.
URL:https://www.neuquen.edu.ar/event/dia-mundial-de-la-poesia/
CATEGORIES:Efemérides
ATTACH;FMTTYPE=image/jpeg:https://www.neuquen.edu.ar/wp-content/uploads/2023/02/21_Dia-mundial-de-la-poesia-web.jpg
END:VEVENT
BEGIN:VEVENT
DTSTART;VALUE=DATE:20230321
DTEND;VALUE=DATE:20230322
DTSTAMP:20260421T142155
CREATED:20230215T150637Z
LAST-MODIFIED:20230215T150637Z
UID:31631-1679356800-1679443199@www.neuquen.edu.ar
SUMMARY:Día Mundial del Títere
DESCRIPTION:21 de marzo – Día Mundial del Títere 
URL:https://www.neuquen.edu.ar/event/dia-mundial-del-titere/
CATEGORIES:Efemérides
ATTACH;FMTTYPE=image/jpeg:https://www.neuquen.edu.ar/wp-content/uploads/2023/02/21_Dia-nacional-del-titere-web.jpg
END:VEVENT
END:VCALENDAR