﻿BEGIN:VCALENDAR
VERSION:2.0
PRODID:-//Educación Neuquén - ECPv6.15.8//NONSGML v1.0//EN
CALSCALE:GREGORIAN
METHOD:PUBLISH
X-WR-CALNAME:Educación Neuquén
X-ORIGINAL-URL:https://www.neuquen.edu.ar
X-WR-CALDESC:Eventos para Educación Neuquén
REFRESH-INTERVAL;VALUE=DURATION:PT1H
X-Robots-Tag:noindex
X-PUBLISHED-TTL:PT1H
BEGIN:VTIMEZONE
TZID:America/Argentina/Cordoba
BEGIN:STANDARD
TZOFFSETFROM:-0300
TZOFFSETTO:-0300
TZNAME:-03
DTSTART:20220101T000000
END:STANDARD
END:VTIMEZONE
BEGIN:VEVENT
DTSTART;VALUE=DATE:20230227
DTEND;VALUE=DATE:20230228
DTSTAMP:20260421T141752
CREATED:20230203T154611Z
LAST-MODIFIED:20230203T174605Z
UID:31356-1677456000-1677542399@www.neuquen.edu.ar
SUMMARY:Conmemoración del primer izamiento de la Bandera Nacional a orillas del Río Paraná\, por el General Don Manuel Belgrano (1812)
DESCRIPTION:27 de febrero – Conmemoración del primer izamiento de la Bandera Nacional a orillas del Río Paraná\, por el General Don Manuel Belgrano (1812)\n\n¿Sabías qué? El 27 de febrero se conmemora el primer izamiento de la Bandera Nacional por el General Manuel Belgrano. \nEl 27 de febrero de 1812\, a orillas del río Paraná\, Manuel Belgrano izo por primera vez la enseña albiceleste con los mismos colores de la escarapela nacional. \n  \n  \n 
URL:https://www.neuquen.edu.ar/event/conmemoracion-del-primer-izamiento-de-la-bandera-nacional-a-orillas-del-rio-parana-por-el-general-don-manuel-belgrano-1812/
CATEGORIES:Efemérides
ATTACH;FMTTYPE=image/jpeg:https://www.neuquen.edu.ar/wp-content/uploads/2023/02/27_Conmemoracion-del-primer-Izamiento-de-la-bandera-nacional-web.jpg
END:VEVENT
END:VCALENDAR