﻿BEGIN:VCALENDAR
VERSION:2.0
PRODID:-//Educación Neuquén - ECPv6.15.8//NONSGML v1.0//EN
CALSCALE:GREGORIAN
METHOD:PUBLISH
X-WR-CALNAME:Educación Neuquén
X-ORIGINAL-URL:https://www.neuquen.edu.ar
X-WR-CALDESC:Eventos para Educación Neuquén
REFRESH-INTERVAL;VALUE=DURATION:PT1H
X-Robots-Tag:noindex
X-PUBLISHED-TTL:PT1H
BEGIN:VTIMEZONE
TZID:America/Argentina/Cordoba
BEGIN:STANDARD
TZOFFSETFROM:-0300
TZOFFSETTO:-0300
TZNAME:-03
DTSTART:20220101T000000
END:STANDARD
END:VTIMEZONE
BEGIN:VEVENT
DTSTART;VALUE=DATE:20230225
DTEND;VALUE=DATE:20230226
DTSTAMP:20260421T155411
CREATED:20230203T154429Z
LAST-MODIFIED:20230203T174542Z
UID:31353-1677283200-1677369599@www.neuquen.edu.ar
SUMMARY:Conmemoración del Nacimiento del General José de San Martín (1778)
DESCRIPTION:25 de febrero – Conmemoración del Nacimiento del General José de San Martín (1778)\n¿Sabías qué? El 25 de febrero se conmemora el nacimiento del General José de San Martín. \nEl 25 de febrero de 1778 nace en Yapeyú\, el menor de cinco hermanos del matrimonio de Don Juan de San Martín y Gregoria Matorras. La provincia de Mendoza guarda los recuerdos del paso del General en los numerosos lugares que fueron escenarios de su gestión como Gobernador\, Intendente y Jefe del Ejército de los Andes. \n  \n 
URL:https://www.neuquen.edu.ar/event/conmemoracion-del-nacimiento-del-general-jose-de-san-martin-1778/
CATEGORIES:Efemérides
ATTACH;FMTTYPE=image/jpeg:https://www.neuquen.edu.ar/wp-content/uploads/2023/02/25-Nacimiento-Jose-de-San-Martin-web.jpg
END:VEVENT
END:VCALENDAR