﻿BEGIN:VCALENDAR
VERSION:2.0
PRODID:-//Educación Neuquén - ECPv6.15.8//NONSGML v1.0//EN
CALSCALE:GREGORIAN
METHOD:PUBLISH
X-WR-CALNAME:Educación Neuquén
X-ORIGINAL-URL:https://www.neuquen.edu.ar
X-WR-CALDESC:Eventos para Educación Neuquén
REFRESH-INTERVAL;VALUE=DURATION:PT1H
X-Robots-Tag:noindex
X-PUBLISHED-TTL:PT1H
BEGIN:VTIMEZONE
TZID:America/Argentina/Cordoba
BEGIN:STANDARD
TZOFFSETFROM:-0300
TZOFFSETTO:-0300
TZNAME:-03
DTSTART:20220101T000000
END:STANDARD
END:VTIMEZONE
BEGIN:VEVENT
DTSTART;VALUE=DATE:20230221
DTEND;VALUE=DATE:20230222
DTSTAMP:20260421T155237
CREATED:20230203T154247Z
LAST-MODIFIED:20230203T175213Z
UID:31350-1676937600-1677023999@www.neuquen.edu.ar
SUMMARY:Día Internacional de la Lengua Materna
DESCRIPTION:21 de febrero – Día Internacional de la Lengua Materna\n¿Sabías qué? El 21 de febrero es el Día Internacional de la Lengua Materna. \nLa fecha fue establecida en noviembre del 1999 por la UNESCO con el objetivo de promover el multilingüismo y la diversidad cultural. \nEsta organización se encuentra trabajando para preservar las diferencias de culturas e idiomas que fomentan la tolerancia\, el respeto y la inclusión. \n  \n 
URL:https://www.neuquen.edu.ar/event/dia-internacional-de-la-lengua-materna/
CATEGORIES:Efemérides
ATTACH;FMTTYPE=image/jpeg:https://www.neuquen.edu.ar/wp-content/uploads/2023/02/21_Dia-Internacional-de-la-lengua-materna-web-1.jpg
END:VEVENT
END:VCALENDAR