﻿BEGIN:VCALENDAR
VERSION:2.0
PRODID:-//Educación Neuquén - ECPv6.15.8//NONSGML v1.0//EN
CALSCALE:GREGORIAN
METHOD:PUBLISH
X-ORIGINAL-URL:https://www.neuquen.edu.ar
X-WR-CALDESC:Eventos para Educación Neuquén
REFRESH-INTERVAL;VALUE=DURATION:PT1H
X-Robots-Tag:noindex
X-PUBLISHED-TTL:PT1H
BEGIN:VTIMEZONE
TZID:America/Argentina/Cordoba
BEGIN:STANDARD
TZOFFSETFROM:-0300
TZOFFSETTO:-0300
TZNAME:-03
DTSTART:20210101T000000
END:STANDARD
END:VTIMEZONE
BEGIN:VEVENT
DTSTART;VALUE=DATE:20221205
DTEND;VALUE=DATE:20221206
DTSTAMP:20260421T190616
CREATED:20221130T144649Z
LAST-MODIFIED:20221130T144649Z
UID:30376-1670198400-1670284799@www.neuquen.edu.ar
SUMMARY:Día mundial del voluntario
DESCRIPTION:Este día supone una oportunidad única para agradecer todos los esfuerzos realizados por los voluntarios y sus organizaciones\, así como promover sus valores y dar a conocer los logros que consiguen en sus comunidades\, ya sea a través de organizaciones no gubernamentales (ONGs)\, agencias de las Naciones Unidas\, organismos gubernamentales o el sector privado. \nLa inspiración en acción\nEl voluntariado es clave para la transformación social\, ambiental y económica. Es capaz de cambiar las mentalidades\, actitudes y comportamientos de las personas. Estas se convierten en agentes del cambio y asociados en igualdad de condiciones en el logro del progreso local\, nacional e internacional hacia el desarrollo humano sostenible y la paz mundial. El programa de Voluntarios de la ONU reconoce los valores universales compartidos que sustentan el voluntariado;  libre elección\, compromiso\, equidad\, compromiso\, solidaridad\, compasión\, empatía y respeto por los demás.\n\nFuente: https://www.un.org/es/observances/volunteer-day
URL:https://www.neuquen.edu.ar/event/dia-mundial-del-voluntario/
CATEGORIES:Efemérides
ATTACH;FMTTYPE=image/jpeg:https://www.neuquen.edu.ar/wp-content/uploads/2022/11/05_Dia-mundial-del-voluntario-web.jpg
END:VEVENT
END:VCALENDAR