﻿BEGIN:VCALENDAR
VERSION:2.0
PRODID:-//Educación Neuquén - ECPv6.15.8//NONSGML v1.0//EN
CALSCALE:GREGORIAN
METHOD:PUBLISH
X-WR-CALNAME:Educación Neuquén
X-ORIGINAL-URL:https://www.neuquen.edu.ar
X-WR-CALDESC:Eventos para Educación Neuquén
REFRESH-INTERVAL;VALUE=DURATION:PT1H
X-Robots-Tag:noindex
X-PUBLISHED-TTL:PT1H
BEGIN:VTIMEZONE
TZID:America/Argentina/Cordoba
BEGIN:STANDARD
TZOFFSETFROM:-0300
TZOFFSETTO:-0300
TZNAME:-03
DTSTART:20210101T000000
END:STANDARD
END:VTIMEZONE
BEGIN:VEVENT
DTSTART;VALUE=DATE:20221130
DTEND;VALUE=DATE:20221201
DTSTAMP:20260421T190248
CREATED:20221028T150153Z
LAST-MODIFIED:20221028T150153Z
UID:30021-1669766400-1669852799@www.neuquen.edu.ar
SUMMARY:Día Nacional del Teatro Nacional.
DESCRIPTION:
URL:https://www.neuquen.edu.ar/event/dia-nacional-del-teatro-nacional/
CATEGORIES:Efemérides
ATTACH;FMTTYPE=image/jpeg:https://www.neuquen.edu.ar/wp-content/uploads/2022/10/30_Dia-del-Teatro-Nacional-web.jpg
END:VEVENT
BEGIN:VEVENT
DTSTART;VALUE=DATE:20221130
DTEND;VALUE=DATE:20221201
DTSTAMP:20260421T190248
CREATED:20221028T150233Z
LAST-MODIFIED:20221028T150233Z
UID:30024-1669766400-1669852799@www.neuquen.edu.ar
SUMMARY:Día Internacional de la Seguridad Informática
DESCRIPTION:
URL:https://www.neuquen.edu.ar/event/dia-internacional-de-la-seguridad-informatica/
CATEGORIES:Efemérides
ATTACH;FMTTYPE=image/jpeg:https://www.neuquen.edu.ar/wp-content/uploads/2022/10/30_Dia-Internacional-de-la-Seguridad-Informatica-web.jpg
END:VEVENT
END:VCALENDAR