﻿BEGIN:VCALENDAR
VERSION:2.0
PRODID:-//Educación Neuquén - ECPv6.15.8//NONSGML v1.0//EN
CALSCALE:GREGORIAN
METHOD:PUBLISH
X-WR-CALNAME:Educación Neuquén
X-ORIGINAL-URL:https://www.neuquen.edu.ar
X-WR-CALDESC:Eventos para Educación Neuquén
REFRESH-INTERVAL;VALUE=DURATION:PT1H
X-Robots-Tag:noindex
X-PUBLISHED-TTL:PT1H
BEGIN:VTIMEZONE
TZID:America/Argentina/Cordoba
BEGIN:STANDARD
TZOFFSETFROM:-0300
TZOFFSETTO:-0300
TZNAME:-03
DTSTART:20210101T000000
END:STANDARD
END:VTIMEZONE
BEGIN:VEVENT
DTSTART;VALUE=DATE:20221120
DTEND;VALUE=DATE:20221121
DTSTAMP:20260421T202605
CREATED:20221028T145349Z
LAST-MODIFIED:20221028T145349Z
UID:29997-1668902400-1668988799@www.neuquen.edu.ar
SUMMARY:Día de la Soberanía Nacional
DESCRIPTION:Ese día\, soldados argentinos repelieron la invasión del ejército anglo-francés\, que pretendía colonizar los territorios de nuestro país. Pero el Gobierno de Juan Manuel de Rosas\, respaldado desde el exilio por el general José de San Martín\, preparó una resistencia y lo impidió. \nLas fuerzas invasoras buscaban ingresar por el Paraná. Sin embargo\, las tropas nacionales\, al mando de Lucio Mansilla\, se anticiparon en un estrecho recodo de ese río: la Vuelta de Obligado\, en el distrito bonaerense de San Pedro. \nEl número de fuerzas enemigas superaba ampliamente en cantidad y modernidad de su armamento a las argentinas\, que sin embargo no se amedrentaron y pelearon durante siete horas. De este modo\, lograron que las tropas adversarias no pudieran ocupar las costas\, objetivo necesario para poder adentrarse en el territorio argentino. \nLa resistencia a la invasión extranjera logró la defensa del país en términos de fronteras y comerciales\, ya que se evitó que colocaran en el mercado los productos extranjeros desplazando a los artículos locales. \nEl acontecimiento sirvió para ratificar y garantizar la soberanía nacional\, implicó la firma de un tratado de paz entre Argentina\, Francia y Gran Bretaña\, y quedó grabado en la historia como un símbolo de independencia\, libertad y unidad nacional.
URL:https://www.neuquen.edu.ar/event/dia-de-la-soberania-nacional/
CATEGORIES:Efemérides
ATTACH;FMTTYPE=image/jpeg:https://www.neuquen.edu.ar/wp-content/uploads/2022/10/20_Dia-de-la-Soberania-Nacional-web.jpg
END:VEVENT
END:VCALENDAR