﻿BEGIN:VCALENDAR
VERSION:2.0
PRODID:-//Educación Neuquén - ECPv6.15.8//NONSGML v1.0//EN
CALSCALE:GREGORIAN
METHOD:PUBLISH
X-WR-CALNAME:Educación Neuquén
X-ORIGINAL-URL:https://www.neuquen.edu.ar
X-WR-CALDESC:Eventos para Educación Neuquén
REFRESH-INTERVAL;VALUE=DURATION:PT1H
X-Robots-Tag:noindex
X-PUBLISHED-TTL:PT1H
BEGIN:VTIMEZONE
TZID:America/Argentina/Cordoba
BEGIN:STANDARD
TZOFFSETFROM:-0300
TZOFFSETTO:-0300
TZNAME:-03
DTSTART:20210101T000000
END:STANDARD
END:VTIMEZONE
BEGIN:VEVENT
DTSTART;VALUE=DATE:20221110
DTEND;VALUE=DATE:20221111
DTSTAMP:20260421T202632
CREATED:20221028T132144Z
LAST-MODIFIED:20221028T132144Z
UID:29963-1668038400-1668124799@www.neuquen.edu.ar
SUMMARY:Día de la Tradición
DESCRIPTION:El Día de la Tradición se celebra en la Argentina en conmemoración del nacimiento del escritor y periodista José Hernández en 1834\, quien compuso El Gaucho Martín Fierro\, obra lírica que ocupa la cumbre de la literatura gauchesca. La obra tiene como protagonista al gaucho payador Martín\, quien fue obligado a incorporarse al ejército por parte de quienes menospreciaban su existencia\, al igual que la del indio. De este modo\, víctima de la opresión y la injusticia\, huye para convertirse en un gaucho matrero\, fuera de la Ley. \nSi bien ya había otros escritores que dieron comienzo al género de la literatura gauchesca\, como Bartolomé Hidalgo\, Hilario Ascasubi o Estanislao del Campo\, fue la obra de Hernández la que logró posicionarse en la cumbre de la literatura argentina\, en la segunda mitad del siglo XIX. En sus páginas\, el autor expresó la vida del gaucho en el país\, su estilo de vida\, costumbres y su más profunda cosmovisión\, inmortalizándola con notables versos que se perpetuaron a lo largo y ancho de la región hispanoamericana. \nLa fecha fue instituida en 1939 a través de la promulgación de la ley Nº 4756. Sin embargo\, en 1975\, el Congreso Nacional extendió esta celebración a todo el territorio argentino por medio de la Ley Nacional N° 21154. \nLa palabra tradición refiere a ‘donación’ o ‘legado’\, y abarca el conjunto de costumbres que suelen transmitirse de generación en generación. La tradición de una nación suele incluir su cultura popular\, el gran acervo de música\, comidas\, juegos\, actividades y muchas otras costumbres de cada región del país. En nuestro caso\, la Argentina contiene en sí un amplio abanico de costumbres relacionadas con la vida de campo: el mate\, el asado\, la música folclórica\, la domesticación de caballos\, la artesanía a base de plata y metales\, el trabajo agrícola\, la pintura costumbrista\, etc.\, forman parte de lo que nos identifica como nación frente al resto del mundo.
URL:https://www.neuquen.edu.ar/event/dia-de-la-tradicion/
CATEGORIES:Efemérides
ATTACH;FMTTYPE=image/jpeg:https://www.neuquen.edu.ar/wp-content/uploads/2022/10/10_Dia-de-la-Tradicion-web.jpg
END:VEVENT
BEGIN:VEVENT
DTSTART;VALUE=DATE:20221110
DTEND;VALUE=DATE:20221111
DTSTAMP:20260421T202632
CREATED:20221028T132347Z
LAST-MODIFIED:20221028T132347Z
UID:29966-1668038400-1668124799@www.neuquen.edu.ar
SUMMARY:Día mundial de la ciencia para la paz y el desarrollo
DESCRIPTION:
URL:https://www.neuquen.edu.ar/event/dia-mundial-de-la-ciencia-para-la-paz-y-el-desarrollo/
CATEGORIES:Efemérides
ATTACH;FMTTYPE=image/jpeg:https://www.neuquen.edu.ar/wp-content/uploads/2022/10/10_Dia-mundial-de-la-ciencia-para-la-paz-y-el-desarrollo-web-100.jpg
END:VEVENT
END:VCALENDAR