﻿BEGIN:VCALENDAR
VERSION:2.0
PRODID:-//Educación Neuquén - ECPv6.15.8//NONSGML v1.0//EN
CALSCALE:GREGORIAN
METHOD:PUBLISH
X-ORIGINAL-URL:https://www.neuquen.edu.ar
X-WR-CALDESC:Eventos para Educación Neuquén
REFRESH-INTERVAL;VALUE=DURATION:PT1H
X-Robots-Tag:noindex
X-PUBLISHED-TTL:PT1H
BEGIN:VTIMEZONE
TZID:America/Argentina/Cordoba
BEGIN:STANDARD
TZOFFSETFROM:-0300
TZOFFSETTO:-0300
TZNAME:-03
DTSTART:20210101T000000
END:STANDARD
END:VTIMEZONE
BEGIN:VEVENT
DTSTART;VALUE=DATE:20221109
DTEND;VALUE=DATE:20221110
DTSTAMP:20260421T203035
CREATED:20221028T131911Z
LAST-MODIFIED:20221028T131911Z
UID:29960-1667952000-1668038399@www.neuquen.edu.ar
SUMMARY:Día nacional del Donante Voluntario y habitual de sangre
DESCRIPTION:A través de la Ley Nacional 25.936 se instituyó la fecha en conmemoración de la primera transfusión de sangre realizada en el país el 9 de noviembre de 1914 por el doctor Luis Agote. \nAquel acontecimiento que hizo posible la conservación de la sangre en estado líquido con citrato de sodio\, fue el punto de partida en todo el mundo para el desarrollo más importante hasta entonces conocido\, para el traspaso de sangre entre humanos que tantas miles de vidas permitió salvar. \nPor todo ello\, el Ministerio de Salud de la Nación destacando los logros alcanzados y lo mucho que aún debemos trabajar para seguir creando conciencia sobre la importancia de la donación de sangre expresa su agradecimiento: \n\n\nAl millón de personas que cada año aportan una pequeña cantidad de su sangre y con su donación salvan muchas vidas\, todos los días.\nA las personas que habiendo sido donantes de sangre o sin llegar a serlo\, donan parte de su tiempo para  colaborar con nuestro Sistema de Salud y promueven la donación voluntaria y habitual de sangre.\nA las organizaciones y/o empresas públicas o privadas\, que han considerado este tema y facilitan la realización de colectas de sangre durante la jornada laboral.\nA los equipos técnicos y servicios de hemoterapia en cuyas manos se encuentra la atención tan especial y delicada que se necesita para contar con donantes voluntarios\, altruistas y repetidos de sangre.\n\n\nEn nuestro país\, la donación voluntaria y altruista de sangre\, a partir de la sanción de la ley sangre N° 22.990 en el año 1983\, sufrió un significativo retroceso. En las tres décadas posteriores\, la casi totalidad de las donaciones respondían a  pedidos de reposición\,  efectuados por los bancos de sangre a familiares y amigos de los pacientes. \nMuy por el contrario a lo previsto por los legisladores y científicos\, la incorporación  de artículos específicos para favorecer la donación de sangre (seguro de sangre\, el día laborable por donación\, la convocatoria de donantes por intermedio de familiares y pacientes) en lugar de mejorar la disponibilidad\, transformó los bancos de sangre en instituciones que desalientan la donación voluntaria\, repetida y altruista. \nLa creación de la Dirección de Sangre y Hemoderivados\, la conformación de una Comisión con amplia representación del Sistema de Sangre público y privado\,  que está elaborando el proyecto de Ley actualizando la anterior y el incremento significativo del presupuesto\, son indicadores de la firme decisión del Ministerio de Salud de alcanzar la meta de 100% de donación voluntaria  y contar con una red de bancos de sangre moderna y eficientes\, como piezas claves del Sistema de Salud. \n\n Sabias que… \n\nUna donación tarda aproximadamente 15 min.\nEn Argentina se necesitan 5000 donaciones diarias\nSolo el 35% son voluntarias\, queremos llegar al 100%\n\n\nCada vez que donás sangre podés ayudar a salvar hasta cuatro vidas. \n\n¿Quiénes pueden donar sangre? \n\nPersonas entre 18 y 65 años\, que pesen más de 50 kilos y gocen de buena salud.\nPresentar DNI\, C.I. u otro documento que acredite su identidad.\nNo debe estar en ayunas.\nEntre una donación y otra deberá pasar por lo menos 8 semanas.\n\nFuente: Ministerio de Salud de Argentina.
URL:https://www.neuquen.edu.ar/event/dia-nacional-del-donante-voluntario-y-habitual-de-sangre/
CATEGORIES:Efemérides
ATTACH;FMTTYPE=image/jpeg:https://www.neuquen.edu.ar/wp-content/uploads/2022/10/09_Dia-nacional-del-Donante-Voluntario-y-habitual-de-sangre_09_Dia-nacional-del-Donante-Voluntario-y-habitual-de-sangre-web.jpg
END:VEVENT
END:VCALENDAR