﻿BEGIN:VCALENDAR
VERSION:2.0
PRODID:-//Educación Neuquén - ECPv6.15.8//NONSGML v1.0//EN
CALSCALE:GREGORIAN
METHOD:PUBLISH
X-ORIGINAL-URL:https://www.neuquen.edu.ar
X-WR-CALDESC:Eventos para Educación Neuquén
REFRESH-INTERVAL;VALUE=DURATION:PT1H
X-Robots-Tag:noindex
X-PUBLISHED-TTL:PT1H
BEGIN:VTIMEZONE
TZID:America/Argentina/Cordoba
BEGIN:STANDARD
TZOFFSETFROM:-0300
TZOFFSETTO:-0300
TZNAME:-03
DTSTART:20210101T000000
END:STANDARD
END:VTIMEZONE
BEGIN:VEVENT
DTSTART;VALUE=DATE:20221103
DTEND;VALUE=DATE:20221104
DTSTAMP:20260421T202938
CREATED:20221027T151032Z
LAST-MODIFIED:20221027T151032Z
UID:29937-1667433600-1667519999@www.neuquen.edu.ar
SUMMARY:Día del Artista Plástico
DESCRIPTION:La fecha se celebra en la Argentina en conmemoración de Prilidiano Pueyrredón\, precursor de la pintura en Argentina\, quien falleció el 3 de noviembre de 1970. \nPrilidiano Pueyrredón\, nació en Buenos Aires el 24 de enero de 1823. Fue un pintor\, arquitecto e ingeniero argentino y fue uno de los precursores de la pintura en el país\, abocándose tanto a los temas de salón como a la representación costumbrista de la vida popular. Estudió ingeniería en el Instituto Politécnico de París Fue el primer pintor de desnudos femeninos en Buenos Aires\, de los cuales\, “La siesta” y “El baño”\, se conservan hoy en el Museo Nacional de Bellas Artes. Retrató a Manuelita\, la hija de Rosas y a muchas otras figuras de la sociedad. A lo largo de 1854\, llevó a cabo una importante tarea como arquitecto. Trabajó en las obras de restauración y ampliación de varios monumentos\, entre ellos la capilla de la Recoleta\, la Pirámide de la Plaza de Mayo y la Casa Rosada; como urbanista\, diseñó la Plaza de la Victoria y el puente del barrio de Barracas. Fue autor de los planos para la mansión que Miguel de Azcuénaga levantó en Olivos\, más tarde obsequiada al gobierno federal como residencia para el Presidente de la Nación\, hoy denominada Quinta de Olivos. Abordó también la temática arrabalera y gauchesca\, plasmándola de acuerdo a la doctrina romántica que había adquirido en Europa. Falleció el 3 de noviembre de 1870\, a los 47 años\, en la quinta familiar de San Isidro.
URL:https://www.neuquen.edu.ar/event/dia-del-artista-plastico/
CATEGORIES:Efemérides
ATTACH;FMTTYPE=image/jpeg:https://www.neuquen.edu.ar/wp-content/uploads/2022/10/03_Dia-del-Artista-Plastico-web.jpg
END:VEVENT
BEGIN:VEVENT
DTSTART;VALUE=DATE:20221103
DTEND;VALUE=DATE:20221104
DTSTAMP:20260421T202938
CREATED:20221027T151301Z
LAST-MODIFIED:20221103T151123Z
UID:29940-1667433600-1667519999@www.neuquen.edu.ar
SUMMARY:Día Internacional contra la violencia y el Acoso Escolar\, incluido el ciberacoso
DESCRIPTION:
URL:https://www.neuquen.edu.ar/event/dia-internacional-contra-la-violencia/
CATEGORIES:Efemérides
ATTACH;FMTTYPE=image/jpeg:https://www.neuquen.edu.ar/wp-content/uploads/2022/10/03_Dia-Internacional-contra-la-violencia-web.jpg
END:VEVENT
END:VCALENDAR