﻿BEGIN:VCALENDAR
VERSION:2.0
PRODID:-//Educación Neuquén - ECPv6.15.8//NONSGML v1.0//EN
CALSCALE:GREGORIAN
METHOD:PUBLISH
X-ORIGINAL-URL:https://www.neuquen.edu.ar
X-WR-CALDESC:Eventos para Educación Neuquén
REFRESH-INTERVAL;VALUE=DURATION:PT1H
X-Robots-Tag:noindex
X-PUBLISHED-TTL:PT1H
BEGIN:VTIMEZONE
TZID:America/Argentina/Cordoba
BEGIN:STANDARD
TZOFFSETFROM:-0300
TZOFFSETTO:-0300
TZNAME:-03
DTSTART:20210101T000000
END:STANDARD
END:VTIMEZONE
BEGIN:VEVENT
DTSTART;VALUE=DATE:20221030
DTEND;VALUE=DATE:20221031
DTSTAMP:20260421T220948
CREATED:20221003T152703Z
LAST-MODIFIED:20221003T152758Z
UID:29325-1667088000-1667174399@www.neuquen.edu.ar
SUMMARY:Día de la Educación Física
DESCRIPTION:Hoy se celebra en el país el Día de la Educación Física en recuerdo al 30 de octubre de 1939\, fecha en que se creó el Instituto Nacional de Educación Física\, y se incorporó esta modalidad a los programas de educación a nivel nacional. \nLa Educación Física es de suma importancia para la conformación integral de los niños\, niñas y adolescentes.
URL:https://www.neuquen.edu.ar/event/dia-de-la-educacion-fisica/
CATEGORIES:Efemérides
ATTACH;FMTTYPE=image/jpeg:https://www.neuquen.edu.ar/wp-content/uploads/2022/10/30_Dia-de-la-Educacion-Fisica-WEB.jpg
END:VEVENT
BEGIN:VEVENT
DTSTART;VALUE=DATE:20221030
DTEND;VALUE=DATE:20221031
DTSTAMP:20260421T220948
CREATED:20221003T152856Z
LAST-MODIFIED:20221003T153108Z
UID:29328-1667088000-1667174399@www.neuquen.edu.ar
SUMMARY:Día de la Recuperación de la Democracia
DESCRIPTION:El 30 de octubre de 1983 Argentina volvía a votar. Raúl Alfonsín era elegido democráticamente como el nuevo presidente. Y asumiría su cargo el 10 de diciembre de ese mismo año. \nLa recuperación del ejercicio democrático significó recobrar el ejercicio de la Constitución\, las libertades públicas\, la tolerancia política y la vigencia de los derechos humanos. Por estos motivos\, el Día de la Recuperación de la Democracia se encuentra dentro del Calendario Escolar  porque es una fecha que destaca el valor de la democracia\, su significado\, conversación y consolidación. \n“Democracia” hace referencia a un sistema político que defiende la soberanía del pueblo y el derecho de los ciudadanos a elegir a sus gobernantes. \nLa reconstrucción de la democracia comenzó hace 36 años y aún continúa\, porque para su consolidación y profundización es necesario el aporte cotidiano de todos y cada uno de los argentinos.
URL:https://www.neuquen.edu.ar/event/dia-de-la-recuperacion-de-la-democracia/
CATEGORIES:Efemérides
ATTACH;FMTTYPE=image/jpeg:https://www.neuquen.edu.ar/wp-content/uploads/2022/10/30_Dia-de-la-recuperacion-de-la-Democracia-WEB.jpg
END:VEVENT
END:VCALENDAR