﻿BEGIN:VCALENDAR
VERSION:2.0
PRODID:-//Educación Neuquén - ECPv6.15.8//NONSGML v1.0//EN
CALSCALE:GREGORIAN
METHOD:PUBLISH
X-WR-CALNAME:Educación Neuquén
X-ORIGINAL-URL:https://www.neuquen.edu.ar
X-WR-CALDESC:Eventos para Educación Neuquén
REFRESH-INTERVAL;VALUE=DURATION:PT1H
X-Robots-Tag:noindex
X-PUBLISHED-TTL:PT1H
BEGIN:VTIMEZONE
TZID:America/Argentina/Cordoba
BEGIN:STANDARD
TZOFFSETFROM:-0300
TZOFFSETTO:-0300
TZNAME:-03
DTSTART:20210101T000000
END:STANDARD
END:VTIMEZONE
BEGIN:VEVENT
DTSTART;VALUE=DATE:20221026
DTEND;VALUE=DATE:20221027
DTSTAMP:20260421T220721
CREATED:20221003T152013Z
LAST-MODIFIED:20221003T152013Z
UID:29319-1666742400-1666828799@www.neuquen.edu.ar
SUMMARY:Aniversario del fallecimiento de la eductora Martha Alcira Salotti
DESCRIPTION:Martha Salotti fue maestra normal y profesora Superior de Ciencias Naturales\, y su nombre se hizo conocido por las innovaciones en materia educativa que impulsó como Directora General del Instituto Félix Bernasconi\, ubicado en el barrio Parque Patricios en la Ciudad de Buenos Aires\, que cuenta con un prestigioso museo creado por Rosario Vera Peñalosa. Martha desempeñó este cargo entre los años 1957 y 1964. \nMartha fue llamada para realizar estudios de poesía infantil por su amiga\, la poetisa chilena Gabriela Mistral. Escribió muchos libros infantiles y textos sobre cómo enseñar Lengua. \nFue defensora de estimular la libertad en los niños\, la educación en el ambiente natural de ellos\, al que el docente debe adaptarse\, pero sin descuidar el orden\, ya que sin él no hay libertad posible. \nFue cofundadora\, junto a Dora Pastoriza de Etchebarne en 1965; y rectora\, del Instituto Summa (en la actualidad Fundación Salottiana\, en honor a su fundadora) en el barrio porteño de “Caballito” que se dedicaba a formar maestras jardineras\, y a educar niños en el Jardín de Infantes que se denominó\, “Argentino”. \nFalleció el 26 de octubre del año 1980; y al igual que Rosario Vera\, su maestra\, no dejó descendencia\, pero sí una incansable labor en pos de los hijos del país\, y por ende\, del futuro de la patria.
URL:https://www.neuquen.edu.ar/event/aniversario-del-fallecimiento-de-la-eductora-martha-alcira-salotti/
CATEGORIES:Efemérides
ATTACH;FMTTYPE=image/jpeg:https://www.neuquen.edu.ar/wp-content/uploads/2022/10/26_Aniversario-del-fallecimiento-de-la-eductora-Martha-Alcira-Salotti-WEB.jpg
END:VEVENT
BEGIN:VEVENT
DTSTART;VALUE=DATE:20221026
DTEND;VALUE=DATE:20221027
DTSTAMP:20260421T220721
CREATED:20221003T152607Z
LAST-MODIFIED:20221003T152607Z
UID:29322-1666742400-1666828799@www.neuquen.edu.ar
SUMMARY:Dia de los Consejeros Escolares (CES-2022)
DESCRIPTION:
URL:https://www.neuquen.edu.ar/event/dia-de-los-consejeros-escolares-ces-2022/
CATEGORIES:Efemérides
ATTACH;FMTTYPE=image/jpeg:https://www.neuquen.edu.ar/wp-content/uploads/2022/10/26_Dia-de-los-Consejeros-Escolares-CES-2022-WEB.jpg
END:VEVENT
END:VCALENDAR