﻿BEGIN:VCALENDAR
VERSION:2.0
PRODID:-//Educación Neuquén - ECPv6.15.8//NONSGML v1.0//EN
CALSCALE:GREGORIAN
METHOD:PUBLISH
X-ORIGINAL-URL:https://www.neuquen.edu.ar
X-WR-CALDESC:Eventos para Educación Neuquén
REFRESH-INTERVAL;VALUE=DURATION:PT1H
X-Robots-Tag:noindex
X-PUBLISHED-TTL:PT1H
BEGIN:VTIMEZONE
TZID:America/Argentina/Cordoba
BEGIN:STANDARD
TZOFFSETFROM:-0300
TZOFFSETTO:-0300
TZNAME:-03
DTSTART:20210101T000000
END:STANDARD
END:VTIMEZONE
BEGIN:VEVENT
DTSTART;VALUE=DATE:20221024
DTEND;VALUE=DATE:20221025
DTSTAMP:20260421T221044
CREATED:20221003T151150Z
LAST-MODIFIED:20221003T151150Z
UID:29313-1666569600-1666655999@www.neuquen.edu.ar
SUMMARY:Día de las Naciones Unidas – ONU –
DESCRIPTION:En junio de 1945\, al finalizar la Segunda Guerra Mundial\, 51 países se reunieron para firmar un documento fundacional: la Carta de las Naciones Unidas; que entró en vigor el 24 de octubre de ese mismo año. \nLa Organización de Naciones Unidas tiene como propósito mantener la paz y la seguridad; fomentar entre los países relaciones de amistad basadas en el respeto a la igualdad de derechos y la libre determinación de los pueblos; y aportar a la cooperación mutua entre naciones\, para la resolución de problemas y el desarrollo común de los pueblos. \nEstos propósitos fundacionales renuevan su significado en el marco de la Agenda 2030 de Desarrollo Sostenible\, adoptada en 2015 por los líderes mundiales. La agenda está estructurada en 17 objetivos globales orientados a poner fin a la pobreza\, reducir la desigualdad y luchar contra el cambio climático.
URL:https://www.neuquen.edu.ar/event/dia-de-las-naciones-unidas-onu/
CATEGORIES:Efemérides
ATTACH;FMTTYPE=image/jpeg:https://www.neuquen.edu.ar/wp-content/uploads/2022/10/24_Dia-de-las-Naciones-Unidas-ONU-WEB.jpg
END:VEVENT
BEGIN:VEVENT
DTSTART;VALUE=DATE:20221024
DTEND;VALUE=DATE:20221025
DTSTAMP:20260421T221044
CREATED:20221003T151407Z
LAST-MODIFIED:20221003T151407Z
UID:29316-1666569600-1666655999@www.neuquen.edu.ar
SUMMARY:Día Mundial de Información sobre el Desarrollo
DESCRIPTION:El 19 de diciembre de 1972 la Asamblea General de las Naciones Unidas en la Resolución 3038 (XXVII) con el objetivo de concientizar a la opinión pública mundial sobre los problemas del desarrollo y la necesidad de intensificar la cooperación internacional para resolverlos. \nA pesar de que en los últimos años ha habido progresos considerables en cuanto al acceso a las tecnologías de la información y las comunicaciones\, sigue siendo necesario reducir la brecha digital y asegurarse de que los beneficios de las nuevas tecnologías\, especialmente de las tecnologías de la información y las comunicaciones\, estén al alcance de todos.
URL:https://www.neuquen.edu.ar/event/dia-mundial-de-informacion-sobre-el-desarrollo/
CATEGORIES:Efemérides
ATTACH;FMTTYPE=image/jpeg:https://www.neuquen.edu.ar/wp-content/uploads/2022/10/24_Dia-Mundial-de-Informacion-sobre-el-Desarrollo-WEB.jpg
END:VEVENT
END:VCALENDAR